Workbook

Sheet ОКС за умершими на 01.12.2020
A1: Кадастровый номер объекта | B1: ФИО правообладателя | C1: ИНН | D1: Дата регистрации владения | E1: Дата прекращения владения | F1: Размер доли в праве (текст) | G1: Размер доли в праве | H1: Дата смерти | I1: Вид права | J1: Дата внесения КН в ГКН | K1: Условный номер объекта | L1: Налог | M1: Ставка | N1: Вид ОН | O1: Наименование ОН | P1: Площадь объекта | Q1: Актуальная кадастровая стоимость | R1: ОКАТО | S1: Адрес объекта - текст | T1: ОКТМО | U1: ставка | V1: район | W1: Среднее
A2: 13:23:1002055:623 | B2: МАНАКОВ МИХАИЛ ИВАНОВИЧ | C2: 132708894495 | D2: 31413 | E2: 43913 | F2: 1/1 | G2: 1 | H2: 43913 | I2: 001001001000 - Собственность | K2: 13:23:1457:0:327:57:А:27 | L2: =(P2-20)/P2*(Q2*M2)*G2 -> 907.99781 | M2: 0.001 | N2: Квартиры | P2: 52.8 | Q2: 1461655 | R2: 89401000000 | S2: 430013,РОССИЯ,,,Саранск г,,Коваленко ул,57,,27 | T2: 89701000 | U2: ставка 0,1 | V2: =VLOOKUP(T2,[1]ОКТМО!$B$6:$D$553,3,0) -> 23 г.Саранск (городской округ) | W2: =Q2/P2 -> 27682.86
A3: 13:23:1002045:1309 | B3: ГРАЧЕВ АДИЮЛЛА СЯМИЮЛЛОВИЧ | C3: 132702114452 | D3: 32509 | E3: 43981 | F3: 1/1 | G3: 1 | H3: 43981 | I3: 001001001000 - Собственность | K3: 13-1/23-13/2003-76 | L3: =(P3-20)/P3*(Q3*M3)*G3 -> 1051.302 | M3: 0.001 | N3: Квартиры | P3: 61.2 | Q3: 1561642.9 | R3: 89401000000 | S3: 430034,РОССИЯ,,,Саранск г,,Пушкина ул,80,,5 | T3: 89701000 | U3: ставка 0,1 | V3: =VLOOKUP(T3,[1]ОКТМО!$B$6:$D$553,3,0) -> 23 г.Саранск (городской округ) | W3: =Q3/P3 -> 25517.04
A4: 13:23:1002056:3945 | B4: ШЕВОРАКОВ АНАТОЛИЙ СЕРГЕЕВИЧ | C4: 132700884495 | D4: 38176 | E4: 43981 | F4: 1/1 | G4: 1 | H4: 43981 | I4: 001001001000 - Собственность | K4: 13:23:73/2004:255 | L4: =(P4-20)/P4*(Q4*M4)*G4 -> 1191.7642 | M4: 0.001 | N4: Квартиры | P4: 64 | Q4: 1733475.2 | R4: 89401000000 | S4: 430013,РОССИЯ,,,Саранск г,,Воинова ул,10,,129 | T4: 89701000 | U4: ставка 0,1 | V4: =VLOOKUP(T4,[1]ОКТМО!$B$6:$D$553,3,0) -> 23 г.Саранск (городской округ) | W4: =Q4/P4 -> 27085.55
A5: 13:23:1002056:280 | B5: ФЛЕГАНОВА ЕЛИЗАВЕТА ПЕТРОВНА | C5: 130101536576 | D5: 37805 | E5: 41927 | F5: 1/1 | G5: 1 | H5: 41927 | I5: 001001001000 - Собственность | K5: 13:23:145/2003:70 | L5: =(P5-20)/P5*(Q5*M5)*G5 -> 362.14101 | M5: 0.001 | N5: Квартиры | P5: 32.7 | Q5: 932441.81 | R5: 89401000000 | S5: 430013,РОССИЯ,,,Саранск г,,Коваленко ул,36,,30 | T5: 89701000 | U5: ставка 0,1 | V5: =VLOOKUP(T5,[1]ОКТМО!$B$6:$D$553,3,0) -> 23 г.Саранск (городской округ) | W5: =Q5/P5 -> 28515.04
A6: 13:23:1002053:3484 | B6: МИЛИЦЫНА ЛЮБОВЬ КОНСТАНТИНОВНА | C6: 132604833057 | D6: 38392 | E6: 42199 | F6: 1/1 | G6: 1 | H6: 42199 | I6: 001001001000 - Собственность | K6: 13-23-02/034/2005-164 | L6: =(P6-20)/P6*(Q6*M6)*G6 -> 463.16291 | M6: 0.001 | N6: Квартиры | P6: 37.1 | Q6: 1004873.9 | R6: 89401000000 | S6: 430034, , , , г Саранск, , ул Войнова, 36, , 62 | T6: 89701000 | U6: ставка 0,1 | V6: =VLOOKUP(T6,[1]ОКТМО!$B$6:$D$553,3,0) -> 23 г.Саранск (городской округ) | W6: =Q6/P6 -> 27085.55
A7: 13:23:1002053:3296 | B7: МЕЩЕРЯКОВ ЮРИЙ АЛЕКСЕЕВИЧ | C7: 132704517827 | D7: 38237 | E7: 43914 | F7: 1/1 | G7: 1 | H7: 43914 | I7: 001001001000 - Собственность | J7: 41088 | K7: 13:23:162/2004:192 | L7: =(P7-20)/P7*(Q7*M7)*G7 -> 463.16291 | M7: 0.001 | N7: Квартиры | P7: 37.1 | Q7: 1004873.9 | R7: 89401000000 | S7: 430034, РОССИЯ, , , г Саранск, , ул Войнова, 32, , 78 | T7: 89701000 | U7: ставка 0,1 | V7: =VLOOKUP(T7,[1]ОКТМО!$B$6:$D$553,3,0) -> 23 г.Саранск (городской округ) | W7: =Q7/P7 -> 27085.55
A8: 13:23:1002053:3511 | B8: АНТОНОВА ГАЛИНА ЯКОВЛЕВНА | C8: 132704549138 | D8: 38936 | E8: 43844 | F8: 1/1 | G8: 1 | H8: 43844 | I8: 001001001000 - Собственность | K8: 13-13-01/114/2009-166 | L8: =(P8-20)/P8*(Q8*M8)*G8 -> 1170.0958 | M8: 0.001 | N8: Квартиры | P8: 63.2 | Q8: 1711806.8 | R8: 89401000000 | S8: 430034, , , , г Саранск, , ул Войнова, 36, , 145 | T8: 89701000 | U8: ставка 0,1 | V8: =VLOOKUP(T8,[1]ОКТМО!$B$6:$D$553,3,0) -> 23 г.Саранск (городской округ) | W8: =Q8/P8 -> 27085.55
A9: 13:23:1101203:3323 | B9: ЮМАТОВА ЛИДИЯ СЕМЕНОВНА | C9: 132806668825 | D9: 38327 | E9: 43908 | F9: 1/1 | G9: 1 | H9: 43908 | I9: 001001001000 - Собственность | J9: 41088 | K9: 13-23-02/098/2005-286 | L9: =(P9-20)/P9*(Q9*M9)*G9 -> 942.81364 | M9: 0.001 | N9: Квартиры | P9: 49.3 | Q9: 1586372.4 | R9: 89401000000 | S9: 430033, РОССИЯ, , , г Саранск, , ул Ярославская, 21, 1, 50 | T9: 89701000 | U9: ставка 0,1 | V9: =VLOOKUP(T9,[1]ОКТМО!$B$6:$D$553,3,0) -> 23 г.Саранск (городской округ) | W9: =Q9/P9 -> 32177.94
A10: 13:23:0910238:434 | B10: КОЧЕРОВА КЛАВДИЯ СТЕПАНОВНА | C10: 132806434697 | D10: 40493 | E10: 42667 | F10: 1/1 | G10: 1 | H10: 42667 | I10: 001001001000 - Собственность | J10: 41088 | K10: 13:23:1461:0:49:161:А:0 | L10: =(P10-50)/P10*(Q10*M10)*G10 -> 1402.2152 | M10: 0.003 | N10: Жилые дома | O10: жилой дом | P10: 93.6 | Q10: 1003420.1 | R10: 89401000000 | S10: 430910, РОССИЯ, , , г Саранск, рп Луховка, ул Садовая, 161, , | T10: 89701000 | U10: ставка 0,3 | V10: =VLOOKUP(T10,[1]ОКТМО!$B$6:$D$553,3,0) -> 23 г.Саранск (городской округ) | W10: =Q10/P10 -> 10720.3
A11: 13:23:1101203:3374 | B11: ШУСТОВ ВИКТОР ВИКТОРОВИЧ | C11: 132806732485 | D11: 34274 | E11: 42881 | F11: 1/1 | G11: 1 | H11: 42881 | I11: 001001001000 - Собственность | J11: 41088 | K11: 13-13-01/365/2011-354 | L11: =(P11-20)/P11*(Q11*M11)*G11 -> 409.46045 | M11: 0.001 | N11: Квартиры | P11: 32.7 | Q11: 1054280.1 | R11: 89401000000 | S11: 430033, РОССИЯ, , , г Саранск, , ул Ярославская, 4, , 2 | T11: 89701000 | U11: ставка 0,1 | V11: =VLOOKUP(T11,[1]ОКТМО!$B$6:$D$553,3,0) -> 23 г.Саранск (городской округ) | W11: =Q11/P11 -> 32240.98
A12: 13:23:1114270:180 | B12: РЫКОВ ВАЛЕРИЙ ВАСИЛЬЕВИЧ | C12: 132806341435 | D12: 36842 | E12: 42850 | F12: 1/1 | G12: 1 | H12: 42850 | I12: 001001001000 - Собственность | K12: 13:23:133/2004:81 | L12: =(P12-50)/P12*(Q12*M12)*G12 -> 193.79448 | M12: 0.003 | N12: Жилые дома | O12: жилой дом | P12: 55.5 | Q12: 651854.16 | R12: 89401669000 | S12: 430903, РОССИЯ, , , г Саранск, рп Николаевка, ул Ленина, 98, , | T12: 89701000 | U12: ставка 0,3 | V12: =VLOOKUP(T12,[1]ОКТМО!$B$6:$D$553,3,0) -> 23 г.Саранск (городской округ) | W12: =Q12/P12 -> 11745.12
A13: 13:23:1202001:2607 | B13: ИВОЙЛОВА ГАЛИНА АЛЕКСАНДРОВНА | C13: 132805536880 | D13: 37189 | E13: 41724 | F13: 1/4 | G13: 0.25 | H13: 41518 | I13: 001001002000 - Общая долевая собственность | J13: 41088 | K13: 13:23:1461:0:49:179:0:0 | L13: =(P13-50)/P13*(Q13*M13)*G13 -> 89.565109 | M13: 0.003 | N13: Жилые дома | O13: жилой дом | P13: 61.7 | Q13: 629762.65 | R13: 89401000000 | S13: 430910, РОССИЯ, , , г Саранск, рп Луховка, ул Садовая, 179, , | T13: 89701000 | U13: ставка 0,3 | V13: =VLOOKUP(T13,[1]ОКТМО!$B$6:$D$553,3,0) -> 23 г.Саранск (городской округ) | W13: =Q13/P13 -> 10206.85
A14: 13:23:1001022:2277 | B14: ИШКИНЯЕВА АДЕЛЯ ИБРАГИМОВНА | C14: 132701297443 | D14: 38441 | E14: 43927 | F14: 1/1 | G14: 1 | H14: 43927 | I14: 001001001000 - Собственность | K14: 13-23-02/065/2005-131 | L14: =(P14-20)/P14*(Q14*M14)*G14 -> 1036.4519 | M14: 0.001 | N14: Квартиры | P14: 61.2 | Q14: 1539583.9 | R14: 89401000000 | S14: 430028,РОССИЯ,,,Саранск г,,Есенина ул,4,,5 | T14: 89701000 | U14: ставка 0,1 | V14: =VLOOKUP(T14,[1]ОКТМО!$B$6:$D$553,3,0) -> 23 г.Саранск (городской округ) | W14: =Q14/P14 -> 25156.6
B15: НУЯНЗИНА ВАЛЕНТИНА ВАСИЛЬЕВНА | C15: 132701884900 | D15: 38936 | E15: 42915 | F15: 1/1 | G15: 1 | H15: 42915 | I15: 001001001000 - Собственность | K15: 13-13-01/210/2005-284 | L15: =(P15-20)/P15*(Q15*M15)*G15 -> 1044.6387 | M15: 0.001 | N15: Квартиры | P15: 61.19 | Q15: 1551868 | R15: 89401000000 | S15: 430028, , , , г Саранск, , ул Есенина, 17, , 46 | T15: 89701000 | U15: ставка 0,1 | V15: =VLOOKUP(T15,[1]ОКТМО!$B$6:$D$553,3,0) -> 23 г.Саранск (городской округ) | W15: =Q15/P15 -> 25361.464
A16: 13:23:1202001:2647 | B16: ШИШЛОНОВ ВЛАДИМИР ЕГОРОВИЧ | C16: 132802218053 | D16: 35796 | E16: 42488 | F16: 9/14 | G16: 0.64285714 | H16: 42290 | I16: 001001002000 - Общая долевая собственность | J16: 41088 | K16: 13:23:1461:0:49:286:0:0 | L16: =(P16-50)/P16*(Q16*M16)*G16 -> 485.85931 | M16: 0.003 | N16: Жилые дома | O16: жилой дом | P16: 73.5 | Q16: 787942.05 | R16: 89401000000 | S16: 430910, РОССИЯ, , , г Саранск, рп Луховка, ул Садовая, 286, , | T16: 89701000 | U16: ставка 0,3 | V16: =VLOOKUP(T16,[1]ОКТМО!$B$6:$D$553,3,0) -> 23 г.Саранск (городской округ) | W16: =Q16/P16 -> 10720.3
A17: 13:23:1114270:156 | B17: СТРУЛЕВ ВАСИЛИЙ ВАСИЛЬЕВИЧ | C17: 132800839619 | D17: 38800 | E17: 41304 | F17: 1/2 | G17: 0.5 | H17: 41304 | I17: 001001002000 - Общая долевая собственность | J17: 41088 | K17: 13:23:1463:0:129:11:А:0 | L17: =(P17-50)/P17*(Q17*M17)*G17 -> 1561.3813 | M17: 0.003 | N17: Жилые дома | O17: жилой дом | P17: 130.3 | Q17: 1689065.9 | R17: 89401669000 | S17: 430903, РОССИЯ, , , г Саранск, рп Николаевка, ул Свердлова, 11, , | T17: 89701000 | U17: ставка 0,3 | V17: =VLOOKUP(T17,[1]ОКТМО!$B$6:$D$553,3,0) -> 23 г.Саранск (городской округ) | W17: =Q17/P17 -> 12962.9
A18: 13:23:1111259:146 | B18: ГРЕЧАНИНА ВАЛЕНТИНА АЛЕКСАНДРОВНА | C18: 132802564529 | D18: 35909 | E18: 41270 | F18: 1/1 | G18: 1 | H18: 41270 | I18: 001001001000 - Собственность | J18: 41088 | K18: 13:23:1458:0:373:56:А:0 | L18: =(P18-50)/P18*(Q18*M18)*G18 -> 4654.2968 | M18: 0.003 | N18: Жилые дома | O18: жилой дом | P18: 110.2 | Q18: 2839997.3 | R18: 89401000000 | S18: 430004, РОССИЯ, , , г Саранск, , ул Мордовская, 56, , | T18: 89701000 | U18: ставка 0,3 | V18: =VLOOKUP(T18,[1]ОКТМО!$B$6:$D$553,3,0) -> 23 г.Саранск (городской округ) | W18: =Q18/P18 -> 25771.3
A19: 13:23:1202001:2361 | B19: ИШЕНИН ВИКТОР ФЕДОРОВИЧ | C19: 132704820502 | D19: 36329 | E19: 43568 | F19: 1/1 | G19: 1 | H19: 43568 | I19: 001001001000 - Собственность | J19: 41088 | K19: 13:23:1461:0:2:81:А:0 | M19: 0.003 | N19: Жилые дома | O19: жилой дом | P19: 43.7 | Q19: 497178.83 | R19: 89401000000 | S19: 430910, РОССИЯ, , , г Саранск, рп Луховка, ул Советская, 81, , | T19: 89701000 | U19: ставка 0,3 | V19: =VLOOKUP(T19,[1]ОКТМО!$B$6:$D$553,3,0) -> 23 г.Саранск (городской округ) | W19: =Q19/P19 -> 11377.09
A20: 13:23:1102212:478 | B20: ШИЛЯЕВА НИНА ФЕДОРОВНА | C20: 132806754143 | D20: 33970 | E20: 41105 | F20: 1/1 | G20: 1 | H20: 41105 | I20: 001001001000 - Собственность | J20: 41088 | K20: 13-13-01/382/2010-650 | L20: =(P20-50)/P20*(Q20*M20)*G20 -> 708.78447 | M20: 0.003 | N20: Жилые дома | O20: жилой дом | P20: 60.6 | Q20: 1350702.5 | R20: 89401000000 | S20: 430012, РОССИЯ, , , г Саранск, , ул Алтайская, 24, , | T20: 89701000 | U20: ставка 0,3 | V20: =VLOOKUP(T20,[1]ОКТМО!$B$6:$D$553,3,0) -> 23 г.Саранск (городской округ) | W20: =Q20/P20 -> 22288.82
A21: 13:23:1113249:728 | B21: ХМЕЛЬКОВ ПАВЕЛ АЛЕКСАНДРОВИЧ | C21: 132808531840 | D21: 41733 | E21: 43879 | F21: 1/1 | G21: 1 | H21: 43879 | I21: 001001001000 - Собственность | J21: 41088 | K21: 13:23:1458:0:472:61:А:0 | L21: =(P21-50)/P21*(Q21*M21)*G21 -> 1752.5662 | M21: 0.003 | N21: Жилые дома | O21: Жилой дом | P21: 77 | Q21: 1666019.7 | R21: 89401000000 | S21: 430007, РОССИЯ, , , г Саранск, , ул Осипенко, 61, , | T21: 89701000 | U21: ставка 0,3 | V21: =VLOOKUP(T21,[1]ОКТМО!$B$6:$D$553,3,0) -> 23 г.Саранск (городской округ) | W21: =Q21/P21 -> 21636.62
A22: 13:23:1202001:2615 | B22: КЛИНКОВА АНТОНИНА ЕГОРОВНА | C22: 132814409768 | D22: 33970 | E22: 43632 | F22: 1/1 | G22: 1 | H22: 43632 | I22: 001001001000 - Собственность | J22: 41088 | K22: 13-13-01/199/2013-185 | L22: =(P22-50)/P22*(Q22*M22)*G22 -> 304.77297 | M22: 0.003 | N22: Жилые дома | O22: Жилой дом | P22: 53 | Q22: 1794774.1 | R22: 89401000000 | S22: 430910, РОССИЯ, , , г Саранск, рп Луховка, ул Садовая, 22, , | T22: 89701000 | U22: ставка 0,3 | V22: =VLOOKUP(T22,[1]ОКТМО!$B$6:$D$553,3,0) -> 23 г.Саранск (городской округ) | W22: =Q22/P22 -> 33863.663
A23: 13:23:1113250:705 | B23: ЖИРНОВ ПАВЕЛ ФЕДОРОВИЧ | C23: 132814429595 | D23: 33970 | E23: 41275 | F23: 11/25 | G23: 0.44 | H23: 41275 | I23: 001001002000 - Общая долевая собственность | J23: 41088 | K23: 13-13-01/202/2009-286 | L23: =(P23-50)/P23*(Q23*M23)*G23 -> 1370.3897 | M23: 0.003 | N23: Жилые дома | O23: Жилой дом | P23: 96 | Q23: 2166624 | R23: 89401000000 | S23: 430027, РОССИЯ, , , г Саранск, , ул Павлика Морозова, 72, , | T23: 89701000 | U23: ставка 0,3 | V23: =VLOOKUP(T23,[1]ОКТМО!$B$6:$D$553,3,0) -> 23 г.Саранск (городской округ) | W23: =Q23/P23 -> 22569
A24: 13:23:0901177:84 | B24: УХТИНСКАЯ ГАЛИНА АЛЕКСАНДРОВНА | C24: 132811348732 | D24: 38463 | E24: 42134 | F24: 1/1 | G24: 1 | H24: 42134 | I24: 001001001000 - Собственность | J24: 41088 | K24: 13:23:1459:0:590:44А:А:0 | L24: =(P24-50)/P24*(Q24*M24)*G24 -> 1789.3942 | M24: 0.003 | N24: Жилые дома | O24: жилой дом | P24: 82.3 | Q24: 1519784.7 | R24: 89401910002 | S24: 430901, РОССИЯ, , , г Саранск, д Полянки, ул Рабочая, 44А, , | T24: 89701000 | U24: ставка 0,3 | V24: =VLOOKUP(T24,[1]ОКТМО!$B$6:$D$553,3,0) -> 23 г.Саранск (городской округ) | W24: =Q24/P24 -> 18466.4
A25: 13:23:1001047:903 | B25: КУЗЯКИН АЛЕКСАНДР АЛЕКСЕЕВИЧ | C25: 132705012579 | D25: 41333 | E25: 42046 | F25: 1/1 | G25: 1 | H25: 41499 | I25: 001001001000 - Собственность | J25: 41088 | L25: =(P25-20)/P25*(Q25*M25)*G25 -> 914.28906 | M25: 0.001 | N25: Квартиры | P25: 55.3 | Q25: 1432299.9 | R25: 89401000000 | S25: 430021,РОССИЯ,,,Саранск г,,Веселовского ул,82,,39 | T25: 89701000 | U25: ставка 0,1 | V25: =VLOOKUP(T25,[1]ОКТМО!$B$6:$D$553,3,0) -> 23 г.Саранск (городской округ) | W25: =Q25/P25 -> 25900.54
A26: 13:23:1002053:1607 | B26: КУТЕЕВА ТАТЬЯНА ЕГОРОВНА | C26: 132703683589 | D26: 32143 | E26: 40942 | F26: 1/1 | G26: 1 | H26: 40942 | I26: 001001001000 - Собственность | J26: 41088 | K26: 13-13-01/164/2011-354 | L26: =(P26-20)/P26*(Q26*M26)*G26 -> 1144.2545 | M26: 0.001 | N26: Квартиры | P26: 63 | Q26: 1676465.9 | R26: 89401000000 | S26: 430034,РОССИЯ,,,Саранск г,,Миронова ул,9,1,33 | T26: 89701000 | U26: ставка 0,1 | V26: =VLOOKUP(T26,[1]ОКТМО!$B$6:$D$553,3,0) -> 23 г.Саранск (городской округ) | W26: =Q26/P26 -> 26610.57
A27: 13:23:1001047:1269 | B27: СИНИЦЫНА РОЗА ЮСУПОВНА | C27: 132701237109 | D27: 25569 | E27: 42741 | F27: 1/1 | G27: 1 | H27: 42741 | I27: 001001001000 - Собственность | J27: 41088 | K27: 13:23:169/2004:135 | L27: =(P27-20)/P27*(Q27*M27)*G27 -> 602.01489 | M27: 0.001 | N27: Квартиры | P27: 42.9 | Q27: 1127792.1 | R27: 89401000000 | S27: 430023,РОССИЯ,,,Саранск г,,60 лет Октября пр-кт,103,,15 | T27: 89701000 | U27: ставка 0,1 | V27: =VLOOKUP(T27,[1]ОКТМО!$B$6:$D$553,3,0) -> 23 г.Саранск (городской округ) | W27: =Q27/P27 -> 26288.86
A28: 13:23:1001047:1269 | B28: НАЙМАТУЛИН ФЯРИД ЮСУПОВИЧ | C28: 132802027852 | D28: 42741 | E28: 43749 | F28: 1/3 | G28: 0.33333333 | H28: 43749 | J28: 41088 | K28: 13:23:169/2004:135 | L28: =(P28-20)/P28*(Q28*M28)*G28 -> 200.67163 | M28: 0.001 | N28: Квартиры | P28: 42.9 | Q28: 1127792.1 | R28: 89401000000 | S28: 430023,РОССИЯ,,,Саранск г,,60 лет Октября пр-кт,103,,15 | T28: 89701000 | U28: ставка 0,1 | V28: =VLOOKUP(T28,[1]ОКТМО!$B$6:$D$553,3,0) -> 23 г.Саранск (городской округ) | W28: =Q28/P28 -> 26288.86
A29: 13:23:1002045:1236 | B29: МИЗЯЕВА ТАТЬЯНА АЛЕКСЕЕВНА | C29: 132705970204 | D29: 31048 | E29: 43774 | F29: 1/1 | G29: 1 | H29: 43774 | I29: 001001001000 - Собственность | K29: 13-13-01/234/2005-269 | L29: =(P29-20)/P29*(Q29*M29)*G29 -> 864.20443 | M29: 0.001 | N29: Квартиры | P29: 52.7 | Q29: 1392769.8 | R29: 89401000000 | S29: 430034,РОССИЯ,,,Саранск г,,Пушкина ул,76,,47 | T29: 89701000 | U29: ставка 0,1 | V29: =VLOOKUP(T29,[1]ОКТМО!$B$6:$D$553,3,0) -> 23 г.Саранск (городской округ) | W29: =Q29/P29 -> 26428.27
A30: 13:23:1002055:408 | B30: ДАНЧИНА АЛЬБИНА НИКОЛАЕВНА | C30: 132703269508 | D30: 36644 | E30: 41006 | F30: 1/1 | G30: 1 | H30: 41006 | I30: 001001001000 - Собственность | K30: 13:23:1457:0:327:55:А:3 | L30: =(P30-20)/P30*(Q30*M30)*G30 -> 473.37691 | M30: 0.001 | N30: Квартиры | P30: 37.1 | Q30: 1027034.1 | R30: 89401000000 | S30: 430013,РОССИЯ,,,Саранск г,,Коваленко ул,55,,3 | T30: 89701000 | U30: ставка 0,1 | V30: =VLOOKUP(T30,[1]ОКТМО!$B$6:$D$553,3,0) -> 23 г.Саранск (городской округ) | W30: =Q30/P30 -> 27682.86
A31: 13:23:1002055:303 | B31: КОЛЬТЯПИНА АННА НИКОЛАЕВНА | C31: 132300786775 | D31: 43238 | E31: 43966 | F31: 1/1 | G31: 1 | H31: 43966 | I31: 001001001000 - Собственность | J31: 41088 | K31: 13-13-01/005/2009-183 | L31: =(P31-20)/P31*(Q31*M31)*G31 -> 473.37691 | M31: 0.001 | N31: Квартиры | P31: 37.1 | Q31: 1027034.1 | R31: 89401000000 | S31: 430013,РОССИЯ,,,Саранск г,,Коваленко ул,55,1,78 | T31: 89701000 | U31: ставка 0,1 | V31: =VLOOKUP(T31,[1]ОКТМО!$B$6:$D$553,3,0) -> 23 г.Саранск (городской округ) | W31: =Q31/P31 -> 27682.86
A32: 13:23:1201002:453 | B32: КИЗРИНА АНТОНИНА ФЕДОРОВНА | C32: 132807868376 | D32: 40494 | E32: 43215 | F32: 1/1 | G32: 1 | H32: 43215 | I32: 001001001000 - Собственность | K32: 13-13-01/261/2011-071 | L32: =(P32-50)/P32*(Q32*M32)*G32 -> 1320.4984 | M32: 0.003 | N32: Жилые дома | O32: жилой дом | P32: 75.1 | Q32: 1316991.1 | R32: 89401910004 | S32: 430901, РОССИЯ, , , г Саранск, с Монастырское, ул Кооперативная, 3, , | T32: 89701000 | U32: ставка 0,3 | V32: =VLOOKUP(T32,[1]ОКТМО!$B$6:$D$553,3,0) -> 23 г.Саранск (городской округ) | W32: =Q32/P32 -> 17536.5
A33: 13:23:1113250:491 | B33: КУДЮМОВА НИНА АЛЕКСАНДРОВНА | C33: 132806229024 | D33: 39350 | E33: 43564 | F33: 1/1 | G33: 1 | H33: 43564 | I33: 001001001000 - Собственность | K33: 13-13-01/220/2009-044 | L33: =(P33-50)/P33*(Q33*M33)*G33 -> 237.45225 | M33: 0.003 | N33: Жилые дома | O33: жилой дом | P33: 53.5 | Q33: 1209875.8 | R33: 89401000000 | S33: 430007, РОССИЯ, , , г Саранск, , ул Ломоносова, 8, , | T33: 89701000 | U33: ставка 0,3 | V33: =VLOOKUP(T33,[1]ОКТМО!$B$6:$D$553,3,0) -> 23 г.Саранск (городской округ) | W33: =Q33/P33 -> 22614.5
A34: 13:23:1201002:759 | B34: ЗАВОДОВА ВАЛЕНТИНА ИВАНОВНА | C34: 132805068712 | D34: 33970 | E34: 43936 | F34: 1/1 | G34: 1 | H34: 43936 | I34: 001001001000 - Собственность | K34: 13-13-01/072/2010-067 | L34: =(P34-50)/P34*(Q34*M34)*G34 -> 168.3504 | M34: 0.003 | N34: Жилые дома | O34: жилой дом | P34: 53.2 | Q34: 932941.8 | R34: 89401910004 | S34: 430901, РОССИЯ, , , г Саранск, с Монастырское, ул Кооперативная, 42, , | T34: 89701000 | U34: ставка 0,3 | V34: =VLOOKUP(T34,[1]ОКТМО!$B$6:$D$553,3,0) -> 23 г.Саранск (городской округ) | W34: =Q34/P34 -> 17536.5
A35: 13:23:1002045:1363 | B35: ЕЛИСТРАТОВ АЛЕКСАНДР АЛЕКСЕЕВИЧ | C35: 132705081188 | D35: 30682 | E35: 42007 | F35: 1/1 | G35: 1 | H35: 42007 | I35: 001001001000 - Собственность | J35: 41088 | K35: 13-13-01/037/2010-356 | L35: =(P35-20)/P35*(Q35*M35)*G35 -> 774.34831 | M35: 0.001 | N35: Квартиры | P35: 49.3 | Q35: 1302913.7 | R35: 89401000000 | S35: 430034,РОССИЯ,,,Саранск г,,Пушкина ул,82,,3 | T35: 89701000 | U35: ставка 0,1 | V35: =VLOOKUP(T35,[1]ОКТМО!$B$6:$D$553,3,0) -> 23 г.Саранск (городской округ) | W35: =Q35/P35 -> 26428.27
A36: 13:23:1113250:991 | B36: СКАЛКИН АЛЕКСАНДР КУЗЬМИЧ | C36: 132806117000 | D36: 33970 | E36: 43963 | F36: 1/1 | G36: 1 | H36: 43963 | I36: 001001001000 - Собственность | J36: 41516 | K36: 13-13-01/361/2012-041 | L36: =(P36-50)/P36*(Q36*M36)*G36 -> 555.1974 | M36: 0.003 | N36: Жилые дома | O36: Жилой дом | P36: 58.2 | Q36: 1313515.8 | R36: 89401000000 | S36: 430007, РОССИЯ, , , г Саранск, , ул Институтская, 17, , | T36: 89701000 | U36: ставка 0,3 | V36: =VLOOKUP(T36,[1]ОКТМО!$B$6:$D$553,3,0) -> 23 г.Саранск (городской округ) | W36: =Q36/P36 -> 22569
A37: 13:23:1201002:521 | B37: КОРНИШИН ИВАН СЕМЕНОВИЧ | C37: 132807573140 | D37: 33970 | E37: 42537 | F37: 1/1 | G37: 1 | H37: 42537 | I37: 001001001000 - Собственность | J37: 41088 | L37: =(P37-50)/P37*(Q37*M37)*G37 -> 436.65885 | M37: 0.003 | N37: Жилые дома | O37: жилой дом | P37: 58.3 | Q37: 1022377.9 | R37: 89401910004 | S37: 430901, РОССИЯ, , , г Саранск, с Монастырское, ул Первомайская, 39, , | T37: 89701000 | U37: ставка 0,3 | V37: =VLOOKUP(T37,[1]ОКТМО!$B$6:$D$553,3,0) -> 23 г.Саранск (городской округ) | W37: =Q37/P37 -> 17536.5
A38: 13:23:1002045:441 | B38: ТРОФИМОВА ПЕЛАГЕЯ СЕРГЕЕВНА | C38: 132702064064 | D38: 40000 | E38: 42561 | F38: 1/1 | G38: 1 | H38: 42561 | I38: 001001001000 - Собственность | K38: 13-13-01/165/2009-254 | L38: =(P38-20)/P38*(Q38*M38)*G38 -> 774.34831 | M38: 0.001 | N38: Квартиры | P38: 49.3 | Q38: 1302913.7 | R38: 89401000000 | S38: 430034,РОССИЯ,,,Саранск г,,Пушкина ул,66,,35 | T38: 89701000 | U38: ставка 0,1 | V38: =VLOOKUP(T38,[1]ОКТМО!$B$6:$D$553,3,0) -> 23 г.Саранск (городской округ) | W38: =Q38/P38 -> 26428.27
A39: 13:23:1002046:2500 | B39: ЧИКАНАКОВА НАТАЛЬЯ ДМИТРИЕВНА | C39: 132703625259 | D39: 41472 | E39: 43785 | F39: 1/1 | G39: 1 | H39: 43785 | I39: 001001001000 - Собственность | J39: 41626 | K39: 13:23:202/2004:239 | L39: =(P39-20)/P39*(Q39*M39)*G39 -> 345.15552 | M39: 0.001 | N39: Квартиры | P39: 32.7 | Q39: 888707.52 | R39: 89401000000 | S39: 430034,РОССИЯ,,,Саранск г,,60 лет Октября пр-кт,10,,51 | T39: 89701000 | U39: ставка 0,1 | V39: =VLOOKUP(T39,[1]ОКТМО!$B$6:$D$553,3,0) -> 23 г.Саранск (городской округ) | W39: =Q39/P39 -> 27177.6
A40: 13:23:1201002:671 | B40: КОЧЕТКОВ НИКОЛАЙ АЛЕКСЕЕВИЧ | C40: 132804492460 | D40: 39001 | E40: 43867 | F40: 1/1 | G40: 1 | H40: 43867 | I40: 001001001000 - Собственность | J40: 41088 | K40: 13-13-01/225/2006-109 | L40: =(P40-50)/P40*(Q40*M40)*G40 -> 1104.7995 | M40: 0.003 | N40: Жилые дома | O40: Индивидуальный жилой дом | P40: 71 | Q40: 1245091.5 | R40: 89401910004 | S40: 430901, РОССИЯ, , , г Саранск, с Монастырское, ул Набережная, 21, , | T40: 89701000 | U40: ставка 0,3 | V40: =VLOOKUP(T40,[1]ОКТМО!$B$6:$D$553,3,0) -> 23 г.Саранск (городской округ) | W40: =Q40/P40 -> 17536.5
A41: 13:23:1101095:3057 | B41: КРИВОБАТОВ ВИКТОР МИХАЙЛОВИЧ | C41: 132603600532 | D41: 37194 | E41: 43705 | F41: 1/1 | G41: 1 | H41: 43705 | I41: 001001001000 - Собственность | K41: 13:23:1458:0:337:35:А:116 | L41: =(P41-20)/P41*(Q41*M41)*G41 -> 456.97361 | M41: 0.001 | N41: Квартиры | P41: 34.9 | Q41: 1070361 | R41: 89401000000 | S41: 430031, РОССИЯ, , , г Саранск, , ул Лихачева, 35, , 116 | T41: 89701000 | U41: ставка 0,1 | V41: =VLOOKUP(T41,[1]ОКТМО!$B$6:$D$553,3,0) -> 23 г.Саранск (городской округ) | W41: =Q41/P41 -> 30669.37
A42: 13:23:1110306:335 | B42: ВАНЮШКИН АЛЕКСЕЙ ЯКОВЛЕВИЧ | C42: 132805460006 | D42: 33970 | E42: 43887 | F42: 1/1 | G42: 1 | H42: 43887 | I42: 001001001000 - Собственность | K42: 13-13-01/258/2012-339 | L42: =(P42-50)/P42*(Q42*M42)*G42 -> 745.4066 | M42: 0.003 | N42: Жилые дома | O42: жилой дом | P42: 66.2 | Q42: 1015348.1 | R42: 89401000000 | S42: 430008, РОССИЯ, , , г Саранск, рп Луховка, ул Рабочая, 42, , | T42: 89701000 | U42: ставка 0,3 | V42: =VLOOKUP(T42,[1]ОКТМО!$B$6:$D$553,3,0) -> 23 г.Саранск (городской округ) | W42: =Q42/P42 -> 15337.584
A43: 13:23:1001052:553 | B43: ДАВЫТКИНА АЛЕКСАНДРА ВЛАДИМИРОВНА | C43: 132702590388 | D43: 36678 | E43: 43952 | F43: 1/1 | G43: 1 | H43: 43952 | I43: 001001001000 - Собственность | J43: 41088 | K43: 13:23:1457:0:324:40:0:29 | L43: =(P43-20)/P43*(Q43*M43)*G43 -> 544.97688 | M43: 0.001 | N43: Квартиры | P43: 41 | Q43: 1064002.5 | R43: 89401000000 | S43: 430017,РОССИЯ,,,Саранск г,,Веселовского ул,40,,29 | T43: 89701000 | U43: ставка 0,1 | V43: =VLOOKUP(T43,[1]ОКТМО!$B$6:$D$553,3,0) -> 23 г.Саранск (городской округ) | W43: =Q43/P43 -> 25951.28
A44: 13:23:1001052:1265 | B44: ЛАПШИНА РИММА НИКОЛАЕВНА | C44: 132704566920 | D44: 36581 | E44: 41921 | F44: 1/2 | G44: 0.5 | H44: 41921 | I44: 001001002000 - Общая долевая собственность | J44: 41088 | K44: 13:23:1457:0:324:32:А:52 | L44: =(P44-20)/P44*(Q44*M44)*G44 -> 321.1667 | M44: 0.001 | N44: Квартиры | P44: 44.8 | Q44: 1160344.2 | R44: 89401000000 | S44: 430017,РОССИЯ,,,Саранск г,,Веселовского ул,32,,52 | T44: 89701000 | U44: ставка 0,1 | V44: =VLOOKUP(T44,[1]ОКТМО!$B$6:$D$553,3,0) -> 23 г.Саранск (городской округ) | W44: =Q44/P44 -> 25900.54
A45: 13:23:1001052:1265 | B45: ЛАПШИН ПЕТР ВАСИЛЬЕВИЧ | C45: 132704567024 | D45: 36581 | E45: 42610 | F45: 1/2 | G45: 0.5 | H45: 42610 | I45: 001001002000 - Общая долевая собственность | J45: 41088 | K45: 13:23:1457:0:324:32:А:52 | L45: =(P45-20)/P45*(Q45*M45)*G45 -> 321.1667 | M45: 0.001 | N45: Квартиры | P45: 44.8 | Q45: 1160344.2 | R45: 89401000000 | S45: 430017,РОССИЯ,,,Саранск г,,Веселовского ул,32,,52 | T45: 89701000 | U45: ставка 0,1 | V45: =VLOOKUP(T45,[1]ОКТМО!$B$6:$D$553,3,0) -> 23 г.Саранск (городской округ) | W45: =Q45/P45 -> 25900.54
A46: 13:23:1101203:1625 | B46: АНИСИМОВ АЛЕКСАНДР ВАСИЛЬЕВИЧ | C46: 132806050309 | D46: 33970 | E46: 42754 | F46: 1/1 | G46: 1 | H46: 42754 | I46: 001001001000 - Собственность | K46: 13-13-01/348/2010-567 | L46: =(P46-20)/P46*(Q46*M46)*G46 -> 1210.3066 | M46: 0.001 | N46: Квартиры | P46: 52.6 | Q46: 1952826 | R46: 89401000000 | S46: 430009, РОССИЯ, , , г Саранск, , ул Волгоградская, 110, , 27 | T46: 89701000 | U46: ставка 0,1 | V46: =VLOOKUP(T46,[1]ОКТМО!$B$6:$D$553,3,0) -> 23 г.Саранск (городской округ) | W46: =Q46/P46 -> 37125.97
A47: 13:23:1002045:358 | B47: ЕЛИНА НИНА ЕГОРОВНА | C47: 132102013477 | D47: 33373 | E47: 43865 | F47: 1/1 | G47: 1 | H47: 43865 | I47: 001001001000 - Собственность | J47: 41088 | K47: 13-13-01/034/2010-083 | L47: =(P47-20)/P47*(Q47*M47)*G47 -> 352.81448 | M47: 0.001 | N47: Квартиры | P47: 33.2 | Q47: 887381.88 | R47: 89401000000 | S47: 430034,РОССИЯ,,,Саранск г,,Коваленко ул,9,,61 | T47: 89701000 | U47: ставка 0,1 | V47: =VLOOKUP(T47,[1]ОКТМО!$B$6:$D$553,3,0) -> 23 г.Саранск (городской округ) | W47: =Q47/P47 -> 26728.37
A48: 13:23:1104092:2661 | B48: ЕЛИСТРАТОВ ВЯЧЕСЛАВ НИКОЛАЕВИЧ | C48: 132813081749 | D48: 38833 | E48: 41918 | F48: 1/2 | G48: 0.5 | H48: 41918 | I48: 001001002000 - Общая долевая собственность | J48: 41088 | K48: 13-13-01/091/2006-051 | L48: =(P48-20)/P48*(Q48*M48)*G48 -> 431.08123 | M48: 0.001 | N48: Квартиры | P48: 49.3 | Q48: 1450669.3 | R48: 89401000000 | S48: 430031, РОССИЯ, , , г Саранск, , ул Сущинского, 24, , 54 | T48: 89701000 | U48: ставка 0,1 | V48: =VLOOKUP(T48,[1]ОКТМО!$B$6:$D$553,3,0) -> 23 г.Саранск (городской округ) | W48: =Q48/P48 -> 29425.34
A49: 13:23:1104092:2661 | B49: ТРИФОНОВ АЛЕКСЕЙ ГРИГОРЬЕВИЧ | C49: 132701876585 | D49: 41621 | E49: 43886 | F49: 1/1 | G49: 1 | H49: 43886 | I49: 001001001000 - Собственность | J49: 41088 | K49: 13-13-01/091/2006-051 | L49: =(P49-20)/P49*(Q49*M49)*G49 -> 862.16246 | M49: 0.001 | N49: Квартиры | P49: 49.3 | Q49: 1450669.3 | R49: 89401000000 | S49: 430031, РОССИЯ, , , г Саранск, , ул Сущинского, 24, , 54 | T49: 89701000 | U49: ставка 0,1 | V49: =VLOOKUP(T49,[1]ОКТМО!$B$6:$D$553,3,0) -> 23 г.Саранск (городской округ) | W49: =Q49/P49 -> 29425.34
A50: 13:23:1101095:2638 | B50: КРУТЯКОВ ВЛАДИМИР МИХАЙЛОВИЧ | C50: 132804083524 | D50: 33970 | E50: 43961 | F50: 1/1 | G50: 1 | H50: 43961 | I50: 001001001000 - Собственность | K50: 13-13-01/186/2008-262 | L50: =(P50-20)/P50*(Q50*M50)*G50 -> 803.86907 | M50: 0.001 | N50: Квартиры | P50: 47.2 | Q50: 1394949.3 | R50: 89401000000 | S50: 430031, РОССИЯ, , , г Саранск, , ул Лихачева, 27, , 34 | T50: 89701000 | U50: ставка 0,1 | V50: =VLOOKUP(T50,[1]ОКТМО!$B$6:$D$553,3,0) -> 23 г.Саранск (городской округ) | W50: =Q50/P50 -> 29554.01
A51: 13:23:1101095:2652 | B51: НАЗАРОВА МАРИЯ ГРИГОРЬЕВНА | C51: 132805635104 | D51: 39006 | E51: 42441 | F51: 13/16 | G51: 0.8125 | H51: 42441 | I51: 001001002000 - Общая долевая собственность | J51: 41088 | K51: 13:23:1458:0:337:27:А:48 | L51: =(P51-20)/P51*(Q51*M51)*G51 -> 1392.7327 | M51: 0.001 | N51: Квартиры | P51: 78 | Q51: 2305212.8 | R51: 89401000000 | S51: 430031, РОССИЯ, , , г Саранск, , ул Лихачева, 27, , 48 | T51: 89701000 | U51: ставка 0,1 | V51: =VLOOKUP(T51,[1]ОКТМО!$B$6:$D$553,3,0) -> 23 г.Саранск (городской округ) | W51: =Q51/P51 -> 29554.01
A52: 13:23:1001024:1266 | B52: ФИЛАТОВ ЮРИЙ АЛЕКСАНДРОВИЧ | C52: 132709726334 | D52: 36139 | E52: 42321 | F52: 1/1 | G52: 1 | H52: 42321 | J52: 41088 | L52: =(P52-20)/P52*(Q52*M52)*G52 -> 1193.7519 | M52: 0.001 | N52: Квартиры | P52: 65.6 | Q52: 1717327.3 | R52: 89401000000 | S52: 430021,РОССИЯ,,,Саранск г,,Пушкина ул,30А,,92 | T52: 89701000 | U52: ставка 0,1 | V52: =VLOOKUP(T52,[1]ОКТМО!$B$6:$D$553,3,0) -> 23 г.Саранск (городской округ) | W52: =Q52/P52 -> 26178.77
A53: 13:23:1001024:1236 | B53: СУРКИНА НАДЕЖДА ИВАНОВНА | C53: 132702336896 | D53: 37495 | E53: 43883 | F53: 1/1 | G53: 1 | H53: 43883 | I53: 001001001000 - Собственность | K53: 13:23:1457:0:180:30А:А:53 | L53: =(P53-20)/P53*(Q53*M53)*G53 -> 759.18433 | M53: 0.001 | N53: Квартиры | P53: 49 | Q53: 1282759.7 | R53: 89401000000 | S53: 430021,РОССИЯ,,,Саранск г,,Пушкина ул,30А,,53 | T53: 89701000 | U53: ставка 0,1 | V53: =VLOOKUP(T53,[1]ОКТМО!$B$6:$D$553,3,0) -> 23 г.Саранск (городской округ) | W53: =Q53/P53 -> 26178.77
A54: 13:23:1101095:3161 | B54: ГУСЬКОВ ВИКТОР ИВАНОВИЧ | C54: 132800141253 | D54: 33604 | E54: 43546 | F54: 1/1 | G54: 1 | H54: 43546 | I54: 001001001000 - Собственность | K54: 13-13-01/085/2009-388 | L54: =(P54-20)/P54*(Q54*M54)*G54 -> 893.79477 | M54: 0.001 | N54: Квартиры | P54: 49.2 | Q54: 1505983 | R54: 89401000000 | S54: 430031, РОССИЯ, , , г Саранск, , ул Лихачева, 44, , 90 | T54: 89701000 | U54: ставка 0,1 | V54: =VLOOKUP(T54,[1]ОКТМО!$B$6:$D$553,3,0) -> 23 г.Саранск (городской округ) | W54: =Q54/P54 -> 30609.41
B55: КРАСНОВА АНТОНИНА ЯКОВЛЕВНА | C55: 132806361262 | D55: 37699 | E55: 42992 | F55: 1/1 | G55: 1 | H55: 42992 | I55: 001001001000 - Собственность | K55: 13-1/23-81/2003-138 | M55: 0.003 | N55: Жилые дома | O55: Жилой дом | P55: 51.9 | R55: 89401000000 | S55: 430008, РОССИЯ, , , г Саранск, рп Луховка, ул Первомайская, 40, , | T55: 89701000 | U55: Ставка 0 | V55: =VLOOKUP(T55,[1]ОКТМО!$B$6:$D$553,3,0) -> 23 г.Саранск (городской округ)
A56: 13:23:1002053:2543 | B56: КАРПОВ ИГОРЬ ВАЛЕНТИНОВИЧ | C56: 132707446204 | D56: 37613 | E56: 43847 | F56: 1/1 | G56: 1 | H56: 43847 | I56: 001001001000 - Собственность | J56: 41088 | K56: 13-1/23-236/2002-179 | L56: =(P56-20)/P56*(Q56*M56)*G56 -> 695.56792 | M56: 0.001 | N56: Квартиры | P56: 47.2 | Q56: 1207014.9 | R56: 89401000000 | S56: 430034,РОССИЯ,,,Саранск г,,Н.Эркая ул,22А,,37 | T56: 89701000 | U56: ставка 0,1 | V56: =VLOOKUP(T56,[1]ОКТМО!$B$6:$D$553,3,0) -> 23 г.Саранск (городской округ) | W56: =Q56/P56 -> 25572.35
A57: 13:23:1203002:498 | B57: ЛИЗИН ВИКТОР АЛЕКСЕЕВИЧ | C57: 132809821260 | D57: 37862 | E57: 43405 | F57: 1/1 | G57: 1 | H57: 43405 | I57: 001001001000 - Собственность | J57: 41088 | K57: 13:23:183/2003:217 | L57: =(P57-50)/P57*(Q57*M57)*G57 -> 3312.3044 | M57: 0.003 | N57: Жилые дома | O57: жилой дом | P57: 126.4 | Q57: 1826681 | R57: 89401669002 | S57: 430903, РОССИЯ, , , г Саранск, п Пушкино, ул Пушкина, 61, , | T57: 89701000 | U57: ставка 0,3 | V57: =VLOOKUP(T57,[1]ОКТМО!$B$6:$D$553,3,0) -> 23 г.Саранск (городской округ) | W57: =Q57/P57 -> 14451.59
A58: 13:23:1002046:784 | B58: КАНИН ИВАН ФЕДОРОВИЧ | C58: 132702983653 | D58: 38677 | E58: 43803 | F58: 1/1 | G58: 1 | H58: 43803 | I58: 001001001000 - Собственность | K58: 13-1/23-200/2002-287 | L58: =(P58-20)/P58*(Q58*M58)*G58 -> 1214.0651 | M58: 0.001 | N58: Квартиры | P58: 64.1 | Q58: 1764661.5 | R58: 89401000000 | S58: 430034,РОССИЯ,,,Саранск г,,Металлургов ул,11,,36 | T58: 89701000 | U58: ставка 0,1 | V58: =VLOOKUP(T58,[1]ОКТМО!$B$6:$D$553,3,0) -> 23 г.Саранск (городской округ) | W58: =Q58/P58 -> 27529.82
B59: ШЕСТЕРКИН ИВАН ИВАНОВИЧ | C59: 132800563262 | D59: 40172 | E59: 43751 | F59: 1/1 | G59: 1 | H59: 43751 | I59: 001001001000 - Собственность | K59: 13-13-01/372/2009-154 | M59: 0.003 | N59: Жилые дома | O59: Жилой дом | P59: 37.8 | Q59: 1074573.6 | R59: 89401669002 | S59: 430903, РОССИЯ, , , г Саранск, п Пушкино, ул Пушкина, 112, , | T59: 89701000 | U59: ставка 0,3 | V59: =VLOOKUP(T59,[1]ОКТМО!$B$6:$D$553,3,0) -> 23 г.Саранск (городской округ) | W59: =Q59/P59 -> 28427.874
A60: 13:23:1002046:621 | B60: ГОРШКОВА НАТАЛЬЯ ФЕДОРОВНА | C60: 132705887309 | D60: 35517 | E60: 41048 | F60: 1/1 | G60: 1 | H60: 41048 | I60: 001001001000 - Собственность | L60: =(P60-20)/P60*(Q60*M60)*G60 -> 1056.5208 | M60: 0.001 | N60: Квартиры | O60: Помещение | P60: 58.3 | Q60: 1608228.8 | R60: 89401000000 | S60: 430034,РОССИЯ,,,Саранск г,,Металлургов ул,9А,,9 | T60: 89701000 | U60: ставка 0,1 | V60: =VLOOKUP(T60,[1]ОКТМО!$B$6:$D$553,3,0) -> 23 г.Саранск (городской округ) | W60: =Q60/P60 -> 27585.4
A61: 13:23:1002046:621 | B61: ГОРШКОВ АЛЕКСАНДР АЛЕКСАНДРОВИЧ | C61: 132600248094 | D61: 41048 | E61: 43951 | F61: 1/1 | G61: 1 | H61: 43951 | I61: 001001001000 - Собственность | L61: =(P61-20)/P61*(Q61*M61)*G61 -> 1056.5208 | M61: 0.001 | N61: Квартиры | O61: Помещение | P61: 58.3 | Q61: 1608228.8 | R61: 89401000000 | S61: 430034,РОССИЯ,,,Саранск г,,Металлургов ул,9А,,9 | T61: 89701000 | U61: ставка 0,1 | V61: =VLOOKUP(T61,[1]ОКТМО!$B$6:$D$553,3,0) -> 23 г.Саранск (городской округ) | W61: =Q61/P61 -> 27585.4
A62: 13:23:1001052:1094 | B62: ВАКУЛА ВИКТОР АЛЕКСЕЕВИЧ | C62: 132700000107 | D62: 41360 | E62: 43721 | F62: 1/1 | G62: 1 | H62: 43721 | I62: 001001001000 - Собственность | J62: 41088 | K62: 13:23:152/2004:244 | L62: =(P62-20)/P62*(Q62*M62)*G62 -> 287.45337 | M62: 0.001 | N62: Квартиры | P62: 31.1 | Q62: 805387.37 | R62: 89401000000 | S62: 430017,РОССИЯ,,,Саранск г,,Веселовского ул,28,,64 | T62: 89701000 | U62: ставка 0,1 | V62: =VLOOKUP(T62,[1]ОКТМО!$B$6:$D$553,3,0) -> 23 г.Саранск (городской округ) | W62: =Q62/P62 -> 25896.7
A63: 13:23:1001001:688 | B63: БЕСПАЛОВА АННА ЯКОВЛЕВНА | C63: 132705517555 | D63: 34009 | E63: 43945 | F63: 1/2 | G63: 0.5 | H63: 43945 | I63: 001001001000 - Собственность | K63: 13-13-01/154/2005-156 | L63: =(P63-20)/P63*(Q63*M63)*G63 -> 354.5776 | M63: 0.001 | N63: Квартиры | P63: 47.8 | Q63: 1219338.8 | R63: 89401000000 | S63: 430021,РОССИЯ,,,Саранск г,,Пушкина ул,30,,48 | T63: 89701000 | U63: ставка 0,1 | V63: =VLOOKUP(T63,[1]ОКТМО!$B$6:$D$553,3,0) -> 23 г.Саранск (городской округ) | W63: =Q63/P63 -> 25509.18
A64: 13:23:1002053:3640 | B64: СИВОВ ВИКТОР ПЕТРОВИЧ | C64: 245706615567 | D64: 37166 | E64: 43842 | F64: 1/1 | G64: 1 | H64: 43842 | I64: 001001001000 - Собственность | K64: 13:23:1457:0:421:38:А:69 | L64: =(P64-20)/P64*(Q64*M64)*G64 -> 1178.0822 | M64: 0.001 | N64: Квартиры | P64: 63 | Q64: 1726027.4 | R64: 89401000000 | S64: 430034, , , , г Саранск, , ул Войнова, 38, , 69 | T64: 89701000 | U64: ставка 0,1 | V64: =VLOOKUP(T64,[1]ОКТМО!$B$6:$D$553,3,0) -> 23 г.Саранск (городской округ) | W64: =Q64/P64 -> 27397.26
A65: 13:23:1002054:3194 | B65: ШВЕЦОВА ТАМАРА ВАСИЛЬЕВНА | C65: 132700185930 | D65: 36560 | E65: 41976 | F65: 1/1 | G65: 1 | H65: 41976 | I65: 001001001000 - Собственность | J65: 41675 | K65: 13:23:1457:0:95:25:7:54/1 | L65: =(P65-10)/P65*(Q65*M65)*G65 -> 153.4676 | M65: 0.001 | N65: Комнаты | P65: 15.5 | Q65: 432499.6 | R65: 89401000000 | S65: 430013,,,,Саранск г,,Победы ул,25,7,54/1 | T65: 89701000 | U65: ставка 0,1 | V65: =VLOOKUP(T65,[1]ОКТМО!$B$6:$D$553,3,0) -> 23 г.Саранск (городской округ) | W65: =Q65/P65 -> 27903.2
A66: 13:23:1101097:148 | B66: КИСЕЛЕВА ВАЛЕНТИНА ВАСИЛЬЕВНА | C66: 132805206507 | D66: 40374 | E66: 43949 | F66: 1/1 | G66: 1 | H66: 43949 | I66: 001001001000 - Собственность | K66: 13-13-01/269/2010-210 | L66: =(P66-20)/P66*(Q66*M66)*G66 -> 373.84386 | M66: 0.001 | N66: Квартиры | P66: 33 | Q66: 948988.26 | R66: 89401000000 | S66: 430024, РОССИЯ, , , г Саранск, , б-р Эрьзи, 3, , 56 | T66: 89701000 | U66: ставка 0,1 | V66: =VLOOKUP(T66,[1]ОКТМО!$B$6:$D$553,3,0) -> 23 г.Саранск (городской округ) | W66: =Q66/P66 -> 28757.22
A67: 13:23:1002046:2409 | B67: САВВАТЕЕВ ВИКТОР АНДРЕЕВИЧ | C67: 132701186863 | D67: 36140 | E67: 43936 | F67: 1/2 | G67: 0.5 | H67: 43936 | I67: 001001002000 - Общая долевая собственность | J67: 41626 | K67: 13:01:001:005:010:0:000:120:0 | L67: =(P67-20)/P67*(Q67*M67)*G67 -> 599.26608 | M67: 0.001 | N67: Квартиры | P67: 64.1 | Q67: 1742084.2 | R67: 89401000000 | S67: 430034,РОССИЯ,,,Саранск г,,60 лет Октября пр-кт,10,,120 | T67: 89701000 | U67: ставка 0,1 | V67: =VLOOKUP(T67,[1]ОКТМО!$B$6:$D$553,3,0) -> 23 г.Саранск (городской округ) | W67: =Q67/P67 -> 27177.6
A68: 13:23:1101094:5510 | B68: ОСИПОВА АНТОНИНА ЛЕОНТЬЕВНА | C68: 132806057135 | D68: 33970 | E68: 43931 | F68: 1/1 | G68: 1 | H68: 43931 | I68: 001001001000 - Собственность | K68: 13-13-01/208/2006-165 | L68: =(P68-20)/P68*(Q68*M68)*G68 -> 1372.261 | M68: 0.001 | N68: Квартиры | P68: 64.1 | Q68: 1994601.6 | R68: 89401000000 | S68: 430033, РОССИЯ, , , г Саранск, , ул Гожувская, 48, , 29 | T68: 89701000 | U68: ставка 0,1 | V68: =VLOOKUP(T68,[1]ОКТМО!$B$6:$D$553,3,0) -> 23 г.Саранск (городской округ) | W68: =Q68/P68 -> 31117.03
A69: 13:23:1101095:1170 | B69: ПРОНИН НИКОЛАЙ АЛЕКСЕЕВИЧ | C69: 132801677953 | D69: 33970 | E69: 43955 | F69: 1/1 | G69: 1 | H69: 43955 | I69: 001001001000 - Собственность | K69: 13-13-01/322/2012-190 | L69: =(P69-20)/P69*(Q69*M69)*G69 -> 1388.0528 | M69: 0.001 | N69: Квартиры | P69: 64.1 | Q69: 2017555.2 | R69: 89401000000 | S69: 430031, РОССИЯ, , , г Саранск, , ул Гожувская, 41, , 56 | T69: 89701000 | U69: ставка 0,1 | V69: =VLOOKUP(T69,[1]ОКТМО!$B$6:$D$553,3,0) -> 23 г.Саранск (городской округ) | W69: =Q69/P69 -> 31475.12
A70: 13:23:1101095:1086 | B70: ВОЛКОВ ВЛАДИМИР АЛЕКСЕЕВИЧ | C70: 132802297231 | D70: 33970 | E70: 43753 | F70: 1/1 | G70: 1 | H70: 43753 | I70: 001001001000 - Собственность | K70: 13-13-01/293/2011-133 | L70: =(P70-20)/P70*(Q70*M70)*G70 -> 1388.0528 | M70: 0.001 | N70: Квартиры | P70: 64.1 | Q70: 2017555.2 | R70: 89401000000 | S70: 430031, РОССИЯ, , , г Саранск, , ул Гожувская, 41, , 81 | T70: 89701000 | U70: ставка 0,1 | V70: =VLOOKUP(T70,[1]ОКТМО!$B$6:$D$553,3,0) -> 23 г.Саранск (городской округ) | W70: =Q70/P70 -> 31475.12
A71: 13:23:1002053:3254 | B71: ЗАИГРАЛИН СЕРГЕЙ ЕФИМОВИЧ | C71: 132702674239 | D71: 36215 | E71: 43829 | F71: 1/1 | G71: 1 | H71: 43829 | I71: 001001001000 - Собственность | K71: 13:23:1457:0:421:32:А:45 | L71: =(P71-20)/P71*(Q71*M71)*G71 -> 1170.0958 | M71: 0.001 | N71: Квартиры | P71: 63.2 | Q71: 1711806.8 | R71: 89401000000 | S71: 430034, , , , г Саранск, , ул Войнова, 32, , 45 | T71: 89701000 | U71: ставка 0,1 | V71: =VLOOKUP(T71,[1]ОКТМО!$B$6:$D$553,3,0) -> 23 г.Саранск (городской округ) | W71: =Q71/P71 -> 27085.55
A72: 13:23:1001052:1091 | B72: САДЫКОВА РОЗА ИЛЯЖЕДИНОВНА | C72: 132704493037 | D72: 36301 | E72: 43980 | F72: 1/2 | G72: 0.5 | H72: 43980 | I72: 001001001000 - Собственность | K72: 13:23:1457:0:324:28:А:44 | L72: =(P72-20)/P72*(Q72*M72)*G72 -> 319.82425 | M72: 0.001 | N72: Квартиры | P72: 44.7 | Q72: 1157582.5 | R72: 89401000000 | S72: 430017,РОССИЯ,,,Саранск г,,Веселовского ул,28,,44 | T72: 89701000 | U72: ставка 0,1 | V72: =VLOOKUP(T72,[1]ОКТМО!$B$6:$D$553,3,0) -> 23 г.Саранск (городской округ) | W72: =Q72/P72 -> 25896.7
A73: 13:23:1002053:2624 | B73: ДЕВЯТАЙКИНА ИРИНА АЛЕКСАНДРОВНА | C73: 132700220536 | D73: 36438 | E73: 43920 | F73: 1/1 | G73: 1 | H73: 43920 | I73: 001001001000 - Собственность | K73: 13:23:1457:0:421:26:1:89 | L73: =(P73-20)/P73*(Q73*M73)*G73 -> 1172.8745 | M73: 0.001 | N73: Квартиры | P73: 63.3 | Q73: 1714617.9 | R73: 89401000000 | S73: 430034, , , , г Саранск, , ул Войнова, 26, 1, 89 | T73: 89701000 | U73: ставка 0,1 | V73: =VLOOKUP(T73,[1]ОКТМО!$B$6:$D$553,3,0) -> 23 г.Саранск (городской округ) | W73: =Q73/P73 -> 27087.17
A74: 13:23:1101094:6284 | B74: КИРЮШКИН АЛЕКСАНДР ФЕДОРОВИЧ | C74: 132806102483 | D74: 33970 | E74: 43915 | F74: 1/1 | G74: 1 | H74: 43915 | I74: 001001001000 - Собственность | J74: 41626 | K74: 13-23-02/025/2005-270 | L74: =(P74-20)/P74*(Q74*M74)*G74 -> 1703.3292 | M74: 0.001 | N74: Квартиры | P74: 71.4 | Q74: 2366103.2 | R74: 89401000000 | S74: 430033, РОССИЯ, , , г Саранск, , ул Гожувская, 44, , 101 | T74: 89701000 | U74: ставка 0,1 | V74: =VLOOKUP(T74,[1]ОКТМО!$B$6:$D$553,3,0) -> 23 г.Саранск (городской округ) | W74: =Q74/P74 -> 33138.7
A75: 13:23:1002054:1273 | B75: ЕГОРОВА ИРИНА ГЕРМАНОВНА | C75: 132703853600 | D75: 36377 | E75: 43931 | F75: 1/1 | G75: 1 | H75: 43931 | I75: 001001001000 - Собственность | K75: 13:23:1457:0:325:38:0:19 | L75: =(P75-20)/P75*(Q75*M75)*G75 -> 774.05092 | M75: 0.001 | N75: Квартиры | P75: 49.3 | Q75: 1302413.3 | R75: 89401000000 | S75: 430013,РОССИЯ,,,Саранск г,,Н.Эркая ул,38,,19 | T75: 89701000 | U75: ставка 0,1 | V75: =VLOOKUP(T75,[1]ОКТМО!$B$6:$D$553,3,0) -> 23 г.Саранск (городской округ) | W75: =Q75/P75 -> 26418.12
A76: 13:23:1115292:241 | B76: КИУШКИНА НАТАЛЬЯ ФИЛИППОВНА | C76: 132805208127 | D76: 38421 | E76: 43917 | F76: 1/1 | G76: 1 | H76: 43917 | I76: 001001001000 - Собственность | K76: 13-23-02/043/2005-146 | L76: =(P76-50)/P76*(Q76*M76)*G76 -> 430.74943 | M76: 0.003 | N76: Жилые дома | O76: Жилой дом | P76: 63.4 | Q76: 679341.14 | R76: 89401000000 | S76: 430904, РОССИЯ, , , г Саранск, рп Ялга, ул Докучаева, 22, , | T76: 89701000 | U76: ставка 0,3 | V76: =VLOOKUP(T76,[1]ОКТМО!$B$6:$D$553,3,0) -> 23 г.Саранск (городской округ) | W76: =Q76/P76 -> 10715.16
A77: 13:23:1115292:284 | B77: НИКИШИН НИКОЛАЙ СТЕПАНОВИЧ | C77: 132808314236 | D77: 37262 | E77: 40976 | F77: 1/1 | G77: 1 | H77: 40976 | I77: 001001001000 - Собственность | K77: 13-1/23-185/2002-305 | L77: =(P77-50)/P77*(Q77*M77)*G77 -> 710.41511 | M77: 0.003 | N77: Жилые дома | O77: жилой дом | P77: 72.1 | Q77: 772563.04 | R77: 89401000000 | S77: 430904, РОССИЯ, , , г Саранск, рп Ялга, ул Комсомольская, 20, , | T77: 89701000 | U77: ставка 0,3 | V77: =VLOOKUP(T77,[1]ОКТМО!$B$6:$D$553,3,0) -> 23 г.Саранск (городской округ) | W77: =Q77/P77 -> 10715.16
A78: 13:23:1115291:524 | B78: КАДДО ОЛЬГА ПАВЛОВНА | C78: 132805160690 | D78: 33970 | E78: 43740 | F78: 1/1 | G78: 1 | H78: 43740 | I78: 001001001000 - Собственность | K78: 13-13-01/083/2006-492 | L78: =(P78-20)/P78*(Q78*M78)*G78 -> 267.76333 | M78: 0.001 | N78: Квартиры | P78: 47.2 | Q78: 464648.13 | R78: 89401000000 | S78: 430904, РОССИЯ, , , г Саранск, рп Ялга, ул Гагарина, 3, , 27 | T78: 89701000 | U78: ставка 0,1 | V78: =VLOOKUP(T78,[1]ОКТМО!$B$6:$D$553,3,0) -> 23 г.Саранск (городской округ) | W78: =Q78/P78 -> 9844.24
A79: 13:23:1202002:1378 | B79: АКИМОВ ПЕТР ВАСИЛЬЕВИЧ | C79: 132606995511 | D79: 36321 | E79: 42628 | F79: 1/1 | G79: 1 | H79: 42628 | I79: 001001001000 - Собственность | K79: 13:23:1469:0:398:54:0:0 | M79: 0.003 | N79: Жилые дома | O79: Жилой дом | P79: 35 | Q79: 598297 | R79: 89401666002 | S79: 430910, РОССИЯ, , , г Саранск, с Макаровка, ул Ленинградская, 54, , | T79: 89701000 | U79: ставка 0,3 | V79: =VLOOKUP(T79,[1]ОКТМО!$B$6:$D$553,3,0) -> 23 г.Саранск (городской округ) | W79: =Q79/P79 -> 17094.2
A80: 13:23:1202002:1322 | B80: АЛЕШИНА ВЕРА ГРИГОРЬЕВНА | C80: 132805287707 | D80: 36678 | E80: 41305 | F80: 1/1 | G80: 1 | H80: 41305 | I80: 001001001000 - Собственность | K80: 13:23:1469:0:70:7:0:0 | L80: =(P80-50)/P80*(Q80*M80)*G80 -> 307.6956 | M80: 0.003 | N80: Жилые дома | O80: Жилой дом | P80: 56 | Q80: 957275.2 | R80: 89401666002 | S80: 430910, РОССИЯ, , , г Саранск, с Макаровка, ул Коммунистическая, 7, , | T80: 89701000 | U80: ставка 0,3 | V80: =VLOOKUP(T80,[1]ОКТМО!$B$6:$D$553,3,0) -> 23 г.Саранск (городской округ) | W80: =Q80/P80 -> 17094.2
A81: 13:23:1001023:1896 | B81: ФЕДЯКИНА МАРИЯ НИКОЛАЕВНА | C81: 132704018627 | D81: 36280 | E81: 41127 | F81: 1/1 | G81: 1 | H81: 41127 | I81: 001001001000 - Собственность | K81: 13:23:1457:0:326:22А:А:41 | L81: =(P81-20)/P81*(Q81*M81)*G81 -> 338.03312 | M81: 0.001 | N81: Квартиры | P81: 33.2 | Q81: 850204.52 | R81: 89401000000 | S81: 430000, РОССИЯ, , , г Саранск, , ул Семашко, 22А, , 41 | T81: 89701000 | U81: ставка 0,1 | V81: =VLOOKUP(T81,[1]ОКТМО!$B$6:$D$553,3,0) -> 23 г.Саранск (городской округ) | W81: =Q81/P81 -> 25608.57
A82: 13:23:1002045:275 | B82: АТЯШКИН АЛЕКСЕЙ НАЗАРОВИЧ | C82: 132708169627 | D82: 36490 | E82: 42030 | F82: 1/2 | G82: 0.5 | H82: 42030 | I82: 001001002000 - Общая долевая собственность | J82: 41088 | K82: 13:23:1457:0:327:35:А:27 | L82: =(P82-20)/P82*(Q82*M82)*G82 -> 399.57149 | M82: 0.001 | N82: Квартиры | P82: 49.2 | Q82: 1346501.2 | R82: 89401000000 | S82: 430034,РОССИЯ,,,Саранск г,,Коваленко ул,35,,27 | T82: 89701000 | U82: ставка 0,1 | V82: =VLOOKUP(T82,[1]ОКТМО!$B$6:$D$553,3,0) -> 23 г.Саранск (городской округ) | W82: =Q82/P82 -> 27367.91
A83: 13:23:1001047:556 | B83: Матяев Павел Николаевич | C83: 132601627747 | D83: 41746 | E83: 43968 | F83: 1/1 | G83: 1 | H83: 43968 | I83: 001001001000 - Собственность | K83: 13:23:1457:0:324:84:А:54 | L83: =(P83-20)/P83*(Q83*M83)*G83 -> 625.42585 | M83: 0.001 | N83: Квартиры | P83: 44.1 | Q83: 1144451.4 | R83: 89401000000 | S83: 430021,РОССИЯ,,,Саранск г,,Веселовского ул,84,,54 | T83: 89701000 | U83: ставка 0,1 | V83: =VLOOKUP(T83,[1]ОКТМО!$B$6:$D$553,3,0) -> 23 г.Саранск (городской округ) | W83: =Q83/P83 -> 25951.28
A84: 13:23:1001052:754 | B84: ВОЛЫНЩИКОВ ВЛАДИМИР АЛЕКСЕЕВИЧ | C84: 132702564074 | D84: 42555 | E84: 43758 | F84: 1/1 | G84: 1 | H84: 43758 | I84: 001001001000 - Собственность | J84: 41088 | K84: 13:23:1457:0:324:16:А:31 | L84: =(P84-20)/P84*(Q84*M84)*G84 -> 215.0904 | M84: 0.001 | N84: Квартиры | P84: 28 | Q84: 752816.4 | R84: 89401000000 | S84: 430017,РОССИЯ,,,Саранск г,,Веселовского ул,16,,31 | T84: 89701000 | U84: ставка 0,1 | V84: =VLOOKUP(T84,[1]ОКТМО!$B$6:$D$553,3,0) -> 23 г.Саранск (городской округ) | W84: =Q84/P84 -> 26886.3
A85: 13:23:1202003:1081 | B85: ШАРАНОВА АЛЕКСАНДРА СТЕПАНОВНА | C85: 132807489900 | D85: 37174 | E85: 42499 | F85: 1/1 | G85: 1 | H85: 42499 | I85: 001001001000 - Собственность | K85: 13-1/23-43/2003-5 | L85: =(P85-50)/P85*(Q85*M85)*G85 -> 806.4171 | M85: 0.003 | N85: Жилые дома | O85: Жилой дом | P85: 65.3 | Q85: 1147255.7 | R85: 89401666003 | S85: 430910, РОССИЯ, , , г Саранск, с Куликовка, ул Чапаева, 17, , | T85: 89701000 | U85: ставка 0,3 | V85: =VLOOKUP(T85,[1]ОКТМО!$B$6:$D$553,3,0) -> 23 г.Саранск (городской округ) | W85: =Q85/P85 -> 17569
A86: 13:23:1001022:924 | B86: ЧАРИН БОРИС ЯКОВЛЕВИЧ | C86: 132806575105 | D86: 36616 | E86: 42413 | F86: 1/2 | G86: 0.5 | H86: 42413 | I86: 001001002000 - Общая долевая собственность | K86: 13:23:1457:0:328:22:А:119 | L86: =(P86-20)/P86*(Q86*M86)*G86 -> 342.12976 | M86: 0.001 | N86: Квартиры | P86: 47.2 | Q86: 1187391.5 | R86: 89401000000 | S86: 430028,РОССИЯ,,,Саранск г,,Есенина ул,22,,119 | T86: 89701000 | U86: ставка 0,1 | V86: =VLOOKUP(T86,[1]ОКТМО!$B$6:$D$553,3,0) -> 23 г.Саранск (городской округ) | W86: =Q86/P86 -> 25156.6
A87: 13:23:1202003:1127 | B87: КАЗАКОВ АЛЕКСЕЙ ИВАНОВИЧ | C87: 132801576137 | D87: 38271 | E87: 42886 | F87: 1/2 | G87: 0.5 | H87: 42886 | I87: 001001002000 - Общая долевая собственность | K87: 13:23:153/2004:78 | M87: 0.003 | N87: Жилые дома | O87: жилой дом | P87: 34.9 | Q87: 596706.24 | R87: 89401000000 | S87: 430910, РОССИЯ, , , г Саранск, с Куликовка, ул Чапаева, 31, , | T87: 89701000 | U87: ставка 0,3 | V87: =VLOOKUP(T87,[1]ОКТМО!$B$6:$D$553,3,0) -> 23 г.Саранск (городской округ) | W87: =Q87/P87 -> 17097.6
A88: 13:23:1111262:209 | B88: МЕЩЕРЯКОВА АНТОНИНА АЛЕКСАНДРОВНА | C88: 132806174907 | D88: 33970 | E88: 42824 | F88: 1/1 | G88: 1 | H88: 42824 | I88: 001001001000 - Собственность | J88: 41088 | K88: 13-13-01/086/2008-195 | L88: =(P88-50)/P88*(Q88*M88)*G88 -> 1968.4843 | M88: 0.003 | N88: Жилые дома | O88: Жилой дом | P88: 76.4 | Q88: 1898891.4 | R88: 89401000000 | S88: 430010, РОССИЯ, , , г Саранск, , ул Пугачева, 90, , | T88: 89701000 | U88: ставка 0,3 | V88: =VLOOKUP(T88,[1]ОКТМО!$B$6:$D$553,3,0) -> 23 г.Саранск (городской округ) | W88: =Q88/P88 -> 24854.6
A89: 13:23:1001052:1348 | B89: РАХМАТУЛИН МАКАДЕСС ХАЙРУТДИНОВИЧ | C89: 132704588909 | D89: 40544 | E89: 43659 | F89: 1/1 | G89: 1 | H89: 43659 | I89: 001001001000 - Собственность | J89: 41088 | K89: 13:23:1457:0:324:36:А:35 | L89: =(P89-20)/P89*(Q89*M89)*G89 -> 966.09014 | M89: 0.001 | N89: Квартиры | P89: 57.3 | Q89: 1484100.9 | R89: 89401000000 | S89: 430017,РОССИЯ,,,Саранск г,,Веселовского ул,36,,35 | T89: 89701000 | U89: ставка 0,1 | V89: =VLOOKUP(T89,[1]ОКТМО!$B$6:$D$553,3,0) -> 23 г.Саранск (городской округ) | W89: =Q89/P89 -> 25900.54
A90: 13:23:1202003:1008 | B90: ЗАВЬЯЛОВ АЛЕКСЕЙ КУЗЬМИЧ | C90: 132805467153 | D90: 33970 | E90: 41089 | F90: 1/1 | G90: 1 | H90: 41089 | I90: 001001001000 - Собственность | J90: 41088 | K90: 13-13-01/318/2008-047 | L90: =(P90-50)/P90*(Q90*M90)*G90 -> 3024.5772 | M90: 0.003 | N90: Жилые дома | O90: Жилой дом | P90: 121.1 | Q90: 1717188.5 | R90: 89401666003 | S90: 430910, РОССИЯ, , , г Саранск, с Куликовка, ул Чапаева, 66, , | T90: 89701000 | U90: ставка 0,3 | V90: =VLOOKUP(T90,[1]ОКТМО!$B$6:$D$553,3,0) -> 23 г.Саранск (городской округ) | W90: =Q90/P90 -> 14179.921
A91: 13:23:1111260:241 | B91: КИРЕЕВА ВАЛЕНТИНА АЛЕКСЕЕВНА | C91: 132805485434 | D91: 33970 | E91: 40936 | F91: 1/1 | G91: 1 | H91: 40936 | I91: 001001001000 - Собственность | J91: 41088 | K91: 13-13-01/358/2010-318 | L91: =(P91-50)/P91*(Q91*M91)*G91 -> 294.83113 | M91: 0.003 | N91: Жилые дома | O91: Жилой дом | P91: 53.8 | Q91: 1391396 | R91: 89401000000 | S91: 430010, РОССИЯ, , , г Саранск, , ул Пугачева, 44, , | T91: 89701000 | U91: ставка 0,3 | V91: =VLOOKUP(T91,[1]ОКТМО!$B$6:$D$553,3,0) -> 23 г.Саранск (городской округ) | W91: =Q91/P91 -> 25862.38
A92: 13:23:1111260:242 | B92: ПОЛЕТАЕВ АНАТОЛИЙ ЮРЬЕВИЧ | C92: 132601767381 | D92: 33970 | E92: 41738 | F92: 39/200 | G92: 0.195 | H92: 41738 | I92: 001001002000 - Общая долевая собственность | J92: 41088 | K92: 13-13-01/133/2013-27 | L92: =(P92-50)/P92*(Q92*M92)*G92 -> 503.53232 | M92: 0.003 | N92: Жилые дома | O92: жилой дом | P92: 83 | Q92: 2164889 | R92: 89401000000 | S92: 430010, РОССИЯ, , , г Саранск, , ул Пугачева, 46, , | T92: 89701000 | U92: ставка 0,3 | V92: =VLOOKUP(T92,[1]ОКТМО!$B$6:$D$553,3,0) -> 23 г.Саранск (городской округ) | W92: =Q92/P92 -> 26083
A93: 13:23:1111262:336 | B93: ИЛЬИНА РАИСА ГРИГОРЬЕВНА | C93: 132606143644 | D93: 33970 | E93: 41151 | F93: 7/25 | G93: 0.28 | H93: 41151 | I93: 001001002000 - Общая долевая собственность | J93: 41088 | K93: 13-13-01/304/2009-069 | M93: 0.003 | N93: Жилые дома | O93: жилой дом | P93: 44.4 | Q93: 1223097 | R93: 89401000000 | S93: 430010, РОССИЯ, , , г Саранск, , ул Пугачева, 78, , | T93: 89701000 | U93: ставка 0,3 | V93: =VLOOKUP(T93,[1]ОКТМО!$B$6:$D$553,3,0) -> 23 г.Саранск (городской округ) | W93: =Q93/P93 -> 27547.23
A94: 13:23:1111260:252 | B94: Сейтимов Габит | C94: 132808947905 | D94: 39688 | E94: 41566 | F94: 1/1 | G94: 1 | H94: 41566 | I94: 001001001000 - Собственность | J94: 41088 | K94: 13-13-01/157/2005-184 | L94: =(P94-50)/P94*(Q94*M94)*G94 -> 20774.59 | M94: 0.003 | N94: Жилые дома | O94: Жилой дом | P94: 320.7 | Q94: 8203929.3 | R94: 89401000000 | S94: 430010, РОССИЯ, , , г Саранск, , ул Чехова, 4, , | T94: 89701000 | U94: ставка 0,3 | V94: =VLOOKUP(T94,[1]ОКТМО!$B$6:$D$553,3,0) -> 23 г.Саранск (городской округ) | W94: =Q94/P94 -> 25581.32
A95: 13:23:1111259:181 | B95: КУДЮМОВ АЛЕКСАНДР СЕРГЕЕВИЧ | C95: 132807123775 | D95: 33970 | E95: 42065 | F95: 1/1 | G95: 1 | H95: 42065 | I95: 001001001000 - Собственность | K95: 13:23:1458:0:69:2:А:0 | L95: =(P95-50)/P95*(Q95*M95)*G95 -> 2753.6719 | M95: 0.003 | N95: Жилые дома | O95: Жилой дом | P95: 84.7 | Q95: 2240499.6 | R95: 89401000000 | S95: 430004, РОССИЯ, , , г Саранск, , ул Комсомольская, 2, , | T95: 89701000 | U95: ставка 0,3 | V95: =VLOOKUP(T95,[1]ОКТМО!$B$6:$D$553,3,0) -> 23 г.Саранск (городской округ) | W95: =Q95/P95 -> 26452.18
A96: 13:23:1111262:383 | B96: МАЛАХОВА ЛУИЗА ИВАНОВНА | C96: 132805874470 | D96: 33970 | E96: 43931 | F96: 1/1 | G96: 1 | H96: 43931 | I96: 001001001000 - Собственность | K96: 13:23:180/2003:278 | L96: =(P96-20)/P96*(Q96*M96)*G96 -> 877.85079 | M96: 0.001 | N96: Квартиры | P96: 54.6 | Q96: 1385279 | R96: 89401000000 | S96: 430010, РОССИЯ, , , г Саранск, , ул Пожарского, 34, , 1 | T96: 89701000 | U96: ставка 0,1 | V96: =VLOOKUP(T96,[1]ОКТМО!$B$6:$D$553,3,0) -> 23 г.Саранск (городской округ) | W96: =Q96/P96 -> 25371.41
A97: 13:23:1002054:2957 | B97: АНОХИНА ЛИДИЯ НИКОЛАЕВНА | C97: 132707259701 | D97: 39843 | E97: 42849 | F97: 1/2 | G97: 0.5 | H97: 42849 | I97: 001001003000 - Общая совместная собственность | J97: 41088 | K97: 13-13-01/005/2009-052 | L97: =(P97-20)/P97*(Q97*M97)*G97 -> 606.09956 | M97: 0.001 | N97: Квартиры | P97: 64 | Q97: 1763198.7 | R97: 89401000000 | S97: 430013,РОССИЯ,,,Саранск г,,Коваленко ул,53,,61 | T97: 89701000 | U97: ставка 0,1 | V97: =VLOOKUP(T97,[1]ОКТМО!$B$6:$D$553,3,0) -> 23 г.Саранск (городской округ) | W97: =Q97/P97 -> 27549.98
A98: 13:23:1101094:6194 | B98: ЮРШЕВА ВАЛЕНТИНА АЛЕКСЕЕВНА | C98: 132600908262 | D98: 36433 | E98: 43959 | F98: 1/1 | G98: 1 | H98: 43959 | I98: 001001001000 - Собственность | J98: 41626 | K98: 13:23:1458:0:329:10:0:18 | L98: =(P98-20)/P98*(Q98*M98)*G98 -> 397.6644 | M98: 0.001 | N98: Квартиры | P98: 32 | Q98: 1060438.4 | R98: 89401000000 | S98: 430031, РОССИЯ, , , г Саранск, , ул Гожувская, 10, , 18 | T98: 89701000 | U98: ставка 0,1 | V98: =VLOOKUP(T98,[1]ОКТМО!$B$6:$D$553,3,0) -> 23 г.Саранск (городской округ) | W98: =Q98/P98 -> 33138.7
A99: 13:23:1001047:810 | B99: МЯКИШЕВА АННА ПЕТРОВНА | C99: 132702572702 | D99: 36817 | E99: 43755 | F99: 1/1 | G99: 1 | H99: 43755 | I99: 001001001000 - Собственность | J99: 41088 | K99: 13:23:1457:0:79:119:А:70 | L99: =(P99-20)/P99*(Q99*M99)*G99 -> 670.21191 | M99: 0.001 | N99: Квартиры | P99: 45.5 | Q99: 1195868.3 | R99: 89401000000 | S99: 430023,РОССИЯ,,,Саранск г,,60 лет Октября пр-кт,119,,70 | T99: 89701000 | U99: ставка 0,1 | V99: =VLOOKUP(T99,[1]ОКТМО!$B$6:$D$553,3,0) -> 23 г.Саранск (городской округ) | W99: =Q99/P99 -> 26282.82
A100: 13:23:1101203:5692 | B100: МАРУСИНА АНТОНИНА НИКОЛАЕВНА | C100: 132806082004 | D100: 33604 | E100: 42761 | F100: 1/1 | G100: 1 | H100: 42761 | I100: 001001001000 - Собственность | J100: 41088 | K100: 13:23:109/2003:174 | L100: =(P100-20)/P100*(Q100*M100)*G100 -> 434.85956 | M100: 0.001 | N100: Квартиры | P100: 32.7 | Q100: 1119677.8 | R100: 89401000000 | S100: 430033, РОССИЯ, , , г Саранск, , пр-кт 70 лет Октября, 85, , 51 | T100: 89701000 | U100: ставка 0,1 | V100: =VLOOKUP(T100,[1]ОКТМО!$B$6:$D$553,3,0) -> 23 г.Саранск (городской округ) | W100: =Q100/P100 -> 34240.91
...

Sheet Лист1
A2: Названия строк | B2: Количество по полю Дата регистрации владения | C2: Сумма по полю Налог
A3: 01 Ардатовский район | B3: 612 | C3: 90713.049 | J3: Колличество | K3: ставка 0,3 | L3: ставка 0,1 | M3: ставка 0,2 | N3: ставка 0
A4: 02 Атюрьевский район | B4: 128 | C4: 144424.26 | J4: 612 | K4: 1.9705065e+08 | L4: 19407820 | O4: =K4*0.3%+L4*0.1%+M4*0.2% -> 610559.78
A5: 03 Атяшевский район | B5: 451 | C5: 59568.045 | J5: 128 | K5: 56804928 | L5: 4128414.5 | O5: =K5*0.3%+L5*0.1%+M5*0.2% -> 174543.2
A6: 04 Б.Березниковский район | B6: 275 | C6: 84955.932 | J6: 451 | K6: 1.3355812e+08 | L6: 17590910 | O6: =K6*0.3%+L6*0.1%+M6*0.2% -> 418265.28
A7: 05 Б.Игнатовский район | B7: 142 | C7: 9442.6817 | J7: 275 | K7: 88794355 | L7: 9209898.1 | N7: 0 | O7: =K7*0.3%+L7*0.1%+M7*0.2% -> 275592.96
A8: 06 Дубенский район | B8: 194 | C8: 31673.509 | J8: 142 | K8: 24378365 | L8: 4883727 | O8: =K8*0.3%+L8*0.1%+M8*0.2% -> 78018.821
A9: 07 Ельниковский район | B9: 142 | C9: 19738.284 | J9: 194 | K9: 52514917 | L9: 7261945.8 | O9: =K9*0.3%+L9*0.1%+M9*0.2% -> 164806.7
A10: 08 Зубово-Полянский район | B10: 1067 | C10: 304021.94 | J10: 142 | K10: 23770128 | L10: 3700729.1 | N10: 0 | O10: =K10*0.3%+L10*0.1%+M10*0.2% -> 75011.114
A11: 09 Инсарский район | B11: 322 | C11: 34402.155 | J11: 1067 | K11: 3.1565333e+08 | L11: 89458619 | N11: 0 | O11: =K11*0.3%+L11*0.1%+M11*0.2% -> 1036418.6
A12: 10 Ичалковский район | B12: 200 | C12: 227334.88 | J12: 322 | K12: 1.0248163e+08 | L12: 16560929 | N12: 0 | O12: =K12*0.3%+L12*0.1%+M12*0.2% -> 324005.82
A13: 11 Кадошкинский район | B13: 140 | C13: 110854.91 | J13: 200 | K13: 1.2831874e+08 | L13: 30096057 | O13: =K13*0.3%+L13*0.1%+M13*0.2% -> 415052.29
A14: 12 Кочкуровский район | B14: 119 | C14: 51729.185 | J14: 140 | K14: 66276885 | L14: 10145785 | O14: =K14*0.3%+L14*0.1%+M14*0.2% -> 208976.44
A15: 13 Краснослободский район | B15: 270 | C15: 266050.93 | J15: 119 | K15: 64289021 | L15: 15224817 | O15: =K15*0.3%+L15*0.1%+M15*0.2% -> 208091.88
A16: 14 Лямбирский район | B16: 232 | C16: 168219.02 | J16: 270 | K16: 1.6449414e+08 | L16: 20254011 | N16: 0 | O16: =K16*0.3%+L16*0.1%+M16*0.2% -> 513736.42
A17: 15 Ромодановский район | B17: 169 | C17: 67334.755 | J17: 232 | K17: 1.4701214e+08 | L17: 62106257 | N17: 0 | O17: =K17*0.3%+L17*0.1%+M17*0.2% -> 503142.69
A18: 16 Старошайговский район | B18: 104 | C18: 82192.788 | J18: 169 | K18: 97172388 | L18: 21705233 | N18: 0 | O18: =K18*0.3%+L18*0.1%+M18*0.2% -> 313222.4
A19: 17 Темниковский район | B19: 311 | C19: 39685.612 | J19: 104 | K19: 36591988 | L19: 7792143.3 | N19: 0 | O19: =K19*0.3%+L19*0.1%+M19*0.2% -> 117568.11
A20: 18 Теньгушевский район | B20: 114 | C20: 12841.417 | J20: 311 | K20: 67531301 | L20: 20101809 | N20: 0 | O20: =K20*0.3%+L20*0.1%+M20*0.2% -> 222695.71
A21: 19 Торбеевский район | B21: 560 | C21: 76621.922 | J21: 114 | K21: 16762395 | L21: 8188654.2 | O21: =K21*0.3%+L21*0.1%+M21*0.2% -> 58475.84
A22: 20 Чамзинский район | B22: 320 | C22: 192840.45 | J22: 560 | K22: 1.3553298e+08 | L22: 21266298 | N22: 0 | O22: =K22*0.3%+L22*0.1%+M22*0.2% -> 427865.24
A23: 21 МО Ковылкино | B23: 748 | C23: 167774.07 | J23: 320 | K23: 1.2734201e+08 | L23: 66795722 | N23: 0 | O23: =K23*0.3%+L23*0.1%+M23*0.2% -> 448821.75
A24: 22 МО Рузаевка | B24: 611 | C24: 439759.05 | J24: 748 | K24: 1.8787481e+08 | L24: 62649897 | N24: 0 | O24: =K24*0.3%+L24*0.1%+M24*0.2% -> 626274.34
A25: 23 г.Саранск (городской округ) | B25: 1592 | C25: 1228797.2 | J25: 611 | K25: 3.8164407e+08 | L25: 1.644159e+08 | N25: 0 | O25: =K25*0.3%+L25*0.1%+M25*0.2% -> 1309348.1
A26: Общий итог | B26: 8823 | C26: 3910976 | J26: 1592 | K26: 5.2246028e+08 | L26: 1.0817113e+09 | M26: 27188264 | N26: 0 | O26: =K26*0.3%+L26*0.1%+M26*0.2% -> 2703468.7
J27: 8823 | K27: 3.1383096e+09 | L27: 1.7631952e+09 | M27: 27188264 | N27: 1461655 | O27: =SUM(O4:O26) -> 11233962
