Workbook

Sheet ОКС за умершими на 01.12.2020
A1: Кадастровый номер объекта | B1: ФИО правообладателя | C1: ИНН | D1: Дата регистрации владения | E1: Дата прекращения владения | F1: Размер доли в праве (текст) | G1: Размер доли в праве | H1: Дата смерти | I1: Вид права | J1: Дата внесения КН в ГКН | K1: Условный номер объекта | L1: Налог | M1: Ставка | N1: Вид ОН | O1: Наименование ОН | P1: Площадь объекта | Q1: Актуальная кадастровая стоимость | R1: ОКАТО | S1: Адрес объекта - текст | T1: ОКТМО | U1: ставка | V1: район | W1: Среднее
A2: 13:23:1002055:623 | B2: МАНАКОВ МИХАИЛ ИВАНОВИЧ | C2: 132708894495 | D2: 31413 | E2: 43913 | F2: 1/1 | G2: 1 | H2: 43913 | I2: 001001001000 - Собственность | K2: 13:23:1457:0:327:57:А:27 | L2: =(P2-20)/P2*(Q2*M2)*G2 -> 907.99781 | M2: 0.001 | N2: Квартиры | P2: 52.8 | Q2: 1461655 | R2: 89401000000 | S2: 430013,РОССИЯ,,,Саранск г,,Коваленко ул,57,,27 | T2: 89701000 | U2: ставка 0,1 | V2: =VLOOKUP(T2,[1]ОКТМО!$B$6:$D$553,3,0) -> 23 г.Саранск (городской округ) | W2: =Q2/P2 -> 27682.86
A3: 13:23:1002045:1309 | B3: ГРАЧЕВ АДИЮЛЛА СЯМИЮЛЛОВИЧ | C3: 132702114452 | D3: 32509 | E3: 43981 | F3: 1/1 | G3: 1 | H3: 43981 | I3: 001001001000 - Собственность | K3: 13-1/23-13/2003-76 | L3: =(P3-20)/P3*(Q3*M3)*G3 -> 1051.302 | M3: 0.001 | N3: Квартиры | P3: 61.2 | Q3: 1561642.9 | R3: 89401000000 | S3: 430034,РОССИЯ,,,Саранск г,,Пушкина ул,80,,5 | T3: 89701000 | U3: ставка 0,1 | V3: =VLOOKUP(T3,[1]ОКТМО!$B$6:$D$553,3,0) -> 23 г.Саранск (городской округ) | W3: =Q3/P3 -> 25517.04
A4: 13:23:1002056:3945 | B4: ШЕВОРАКОВ АНАТОЛИЙ СЕРГЕЕВИЧ | C4: 132700884495 | D4: 38176 | E4: 43981 | F4: 1/1 | G4: 1 | H4: 43981 | I4: 001001001000 - Собственность | K4: 13:23:73/2004:255 | L4: =(P4-20)/P4*(Q4*M4)*G4 -> 1191.7642 | M4: 0.001 | N4: Квартиры | P4: 64 | Q4: 1733475.2 | R4: 89401000000 | S4: 430013,РОССИЯ,,,Саранск г,,Воинова ул,10,,129 | T4: 89701000 | U4: ставка 0,1 | V4: =VLOOKUP(T4,[1]ОКТМО!$B$6:$D$553,3,0) -> 23 г.Саранск (городской округ) | W4: =Q4/P4 -> 27085.55
A5: 13:23:1002056:280 | B5: ФЛЕГАНОВА ЕЛИЗАВЕТА ПЕТРОВНА | C5: 130101536576 | D5: 37805 | E5: 41927 | F5: 1/1 | G5: 1 | H5: 41927 | I5: 001001001000 - Собственность | K5: 13:23:145/2003:70 | L5: =(P5-20)/P5*(Q5*M5)*G5 -> 362.14101 | M5: 0.001 | N5: Квартиры | P5: 32.7 | Q5: 932441.81 | R5: 89401000000 | S5: 430013,РОССИЯ,,,Саранск г,,Коваленко ул,36,,30 | T5: 89701000 | U5: ставка 0,1 | V5: =VLOOKUP(T5,[1]ОКТМО!$B$6:$D$553,3,0) -> 23 г.Саранск (городской округ) | W5: =Q5/P5 -> 28515.04
A6: 13:23:1002053:3484 | B6: МИЛИЦЫНА ЛЮБОВЬ КОНСТАНТИНОВНА | C6: 132604833057 | D6: 38392 | E6: 42199 | F6: 1/1 | G6: 1 | H6: 42199 | I6: 001001001000 - Собственность | K6: 13-23-02/034/2005-164 | L6: =(P6-20)/P6*(Q6*M6)*G6 -> 463.16291 | M6: 0.001 | N6: Квартиры | P6: 37.1 | Q6: 1004873.9 | R6: 89401000000 | S6: 430034, , , , г Саранск, , ул Войнова, 36, , 62 | T6: 89701000 | U6: ставка 0,1 | V6: =VLOOKUP(T6,[1]ОКТМО!$B$6:$D$553,3,0) -> 23 г.Саранск (городской округ) | W6: =Q6/P6 -> 27085.55
A7: 13:23:1002053:3296 | B7: МЕЩЕРЯКОВ ЮРИЙ АЛЕКСЕЕВИЧ | C7: 132704517827 | D7: 38237 | E7: 43914 | F7: 1/1 | G7: 1 | H7: 43914 | I7: 001001001000 - Собственность | J7: 41088 | K7: 13:23:162/2004:192 | L7: =(P7-20)/P7*(Q7*M7)*G7 -> 463.16291 | M7: 0.001 | N7: Квартиры | P7: 37.1 | Q7: 1004873.9 | R7: 89401000000 | S7: 430034, РОССИЯ, , , г Саранск, , ул Войнова, 32, , 78 | T7: 89701000 | U7: ставка 0,1 | V7: =VLOOKUP(T7,[1]ОКТМО!$B$6:$D$553,3,0) -> 23 г.Саранск (городской округ) | W7: =Q7/P7 -> 27085.55
A8: 13:23:1002053:3511 | B8: АНТОНОВА ГАЛИНА ЯКОВЛЕВНА | C8: 132704549138 | D8: 38936 | E8: 43844 | F8: 1/1 | G8: 1 | H8: 43844 | I8: 001001001000 - Собственность | K8: 13-13-01/114/2009-166 | L8: =(P8-20)/P8*(Q8*M8)*G8 -> 1170.0958 | M8: 0.001 | N8: Квартиры | P8: 63.2 | Q8: 1711806.8 | R8: 89401000000 | S8: 430034, , , , г Саранск, , ул Войнова, 36, , 145 | T8: 89701000 | U8: ставка 0,1 | V8: =VLOOKUP(T8,[1]ОКТМО!$B$6:$D$553,3,0) -> 23 г.Саранск (городской округ) | W8: =Q8/P8 -> 27085.55
A9: 13:23:1101203:3323 | B9: ЮМАТОВА ЛИДИЯ СЕМЕНОВНА | C9: 132806668825 | D9: 38327 | E9: 43908 | F9: 1/1 | G9: 1 | H9: 43908 | I9: 001001001000 - Собственность | J9: 41088 | K9: 13-23-02/098/2005-286 | L9: =(P9-20)/P9*(Q9*M9)*G9 -> 942.81364 | M9: 0.001 | N9: Квартиры | P9: 49.3 | Q9: 1586372.4 | R9: 89401000000 | S9: 430033, РОССИЯ, , , г Саранск, , ул Ярославская, 21, 1, 50 | T9: 89701000 | U9: ставка 0,1 | V9: =VLOOKUP(T9,[1]ОКТМО!$B$6:$D$553,3,0) -> 23 г.Саранск (городской округ) | W9: =Q9/P9 -> 32177.94
A10: 13:23:0910238:434 | B10: КОЧЕРОВА КЛАВДИЯ СТЕПАНОВНА | C10: 132806434697 | D10: 40493 | E10: 42667 | F10: 1/1 | G10: 1 | H10: 42667 | I10: 001001001000 - Собственность | J10: 41088 | K10: 13:23:1461:0:49:161:А:0 | L10: =(P10-50)/P10*(Q10*M10)*G10 -> 1402.2152 | M10: 0.003 | N10: Жилые дома | O10: жилой дом | P10: 93.6 | Q10: 1003420.1 | R10: 89401000000 | S10: 430910, РОССИЯ, , , г Саранск, рп Луховка, ул Садовая, 161, , | T10: 89701000 | U10: ставка 0,3 | V10: =VLOOKUP(T10,[1]ОКТМО!$B$6:$D$553,3,0) -> 23 г.Саранск (городской округ) | W10: =Q10/P10 -> 10720.3
A11: 13:23:1101203:3374 | B11: ШУСТОВ ВИКТОР ВИКТОРОВИЧ | C11: 132806732485 | D11: 34274 | E11: 42881 | F11: 1/1 | G11: 1 | H11: 42881 | I11: 001001001000 - Собственность | J11: 41088 | K11: 13-13-01/365/2011-354 | L11: =(P11-20)/P11*(Q11*M11)*G11 -> 409.46045 | M11: 0.001 | N11: Квартиры | P11: 32.7 | Q11: 1054280.1 | R11: 89401000000 | S11: 430033, РОССИЯ, , , г Саранск, , ул Ярославская, 4, , 2 | T11: 89701000 | U11: ставка 0,1 | V11: =VLOOKUP(T11,[1]ОКТМО!$B$6:$D$553,3,0) -> 23 г.Саранск (городской округ) | W11: =Q11/P11 -> 32240.98
A12: 13:23:1114270:180 | B12: РЫКОВ ВАЛЕРИЙ ВАСИЛЬЕВИЧ | C12: 132806341435 | D12: 36842 | E12: 42850 | F12: 1/1 | G12: 1 | H12: 42850 | I12: 001001001000 - Собственность | K12: 13:23:133/2004:81 | L12: =(P12-50)/P12*(Q12*M12)*G12 -> 193.79448 | M12: 0.003 | N12: Жилые дома | O12: жилой дом | P12: 55.5 | Q12: 651854.16 | R12: 89401669000 | S12: 430903, РОССИЯ, , , г Саранск, рп Николаевка, ул Ленина, 98, , | T12: 89701000 | U12: ставка 0,3 | V12: =VLOOKUP(T12,[1]ОКТМО!$B$6:$D$553,3,0) -> 23 г.Саранск (городской округ) | W12: =Q12/P12 -> 11745.12
A13: 13:23:1202001:2607 | B13: ИВОЙЛОВА ГАЛИНА АЛЕКСАНДРОВНА | C13: 132805536880 | D13: 37189 | E13: 41724 | F13: 1/4 | G13: 0.25 | H13: 41518 | I13: 001001002000 - Общая долевая собственность | J13: 41088 | K13: 13:23:1461:0:49:179:0:0 | L13: =(P13-50)/P13*(Q13*M13)*G13 -> 89.565109 | M13: 0.003 | N13: Жилые дома | O13: жилой дом | P13: 61.7 | Q13: 629762.65 | R13: 89401000000 | S13: 430910, РОССИЯ, , , г Саранск, рп Луховка, ул Садовая, 179, , | T13: 89701000 | U13: ставка 0,3 | V13: =VLOOKUP(T13,[1]ОКТМО!$B$6:$D$553,3,0) -> 23 г.Саранск (городской округ) | W13: =Q13/P13 -> 10206.85
A14: 13:23:1001022:2277 | B14: ИШКИНЯЕВА АДЕЛЯ ИБРАГИМОВНА | C14: 132701297443 | D14: 38441 | E14: 43927 | F14: 1/1 | G14: 1 | H14: 43927 | I14: 001001001000 - Собственность | K14: 13-23-02/065/2005-131 | L14: =(P14-20)/P14*(Q14*M14)*G14 -> 1036.4519 | M14: 0.001 | N14: Квартиры | P14: 61.2 | Q14: 1539583.9 | R14: 89401000000 | S14: 430028,РОССИЯ,,,Саранск г,,Есенина ул,4,,5 | T14: 89701000 | U14: ставка 0,1 | V14: =VLOOKUP(T14,[1]ОКТМО!$B$6:$D$553,3,0) -> 23 г.Саранск (городской округ) | W14: =Q14/P14 -> 25156.6
B15: НУЯНЗИНА ВАЛЕНТИНА ВАСИЛЬЕВНА | C15: 132701884900 | D15: 38936 | E15: 42915 | F15: 1/1 | G15: 1 | H15: 42915 | I15: 001001001000 - Собственность | K15: 13-13-01/210/2005-284 | L15: =(P15-20)/P15*(Q15*M15)*G15 -> 1044.6387 | M15: 0.001 | N15: Квартиры | P15: 61.19 | Q15: 1551868 | R15: 89401000000 | S15: 430028, , , , г Саранск, , ул Есенина, 17, , 46 | T15: 89701000 | U15: ставка 0,1 | V15: =VLOOKUP(T15,[1]ОКТМО!$B$6:$D$553,3,0) -> 23 г.Саранск (городской округ) | W15: =Q15/P15 -> 25361.464
A16: 13:23:1202001:2647 | B16: ШИШЛОНОВ ВЛАДИМИР ЕГОРОВИЧ | C16: 132802218053 | D16: 35796 | E16: 42488 | F16: 9/14 | G16: 0.64285714 | H16: 42290 | I16: 001001002000 - Общая долевая собственность | J16: 41088 | K16: 13:23:1461:0:49:286:0:0 | L16: =(P16-50)/P16*(Q16*M16)*G16 -> 485.85931 | M16: 0.003 | N16: Жилые дома | O16: жилой дом | P16: 73.5 | Q16: 787942.05 | R16: 89401000000 | S16: 430910, РОССИЯ, , , г Саранск, рп Луховка, ул Садовая, 286, , | T16: 89701000 | U16: ставка 0,3 | V16: =VLOOKUP(T16,[1]ОКТМО!$B$6:$D$553,3,0) -> 23 г.Саранск (городской округ) | W16: =Q16/P16 -> 10720.3
A17: 13:23:1114270:156 | B17: СТРУЛЕВ ВАСИЛИЙ ВАСИЛЬЕВИЧ | C17: 132800839619 | D17: 38800 | E17: 41304 | F17: 1/2 | G17: 0.5 | H17: 41304 | I17: 001001002000 - Общая долевая собственность | J17: 41088 | K17: 13:23:1463:0:129:11:А:0 | L17: =(P17-50)/P17*(Q17*M17)*G17 -> 1561.3813 | M17: 0.003 | N17: Жилые дома | O17: жилой дом | P17: 130.3 | Q17: 1689065.9 | R17: 89401669000 | S17: 430903, РОССИЯ, , , г Саранск, рп Николаевка, ул Свердлова, 11, , | T17: 89701000 | U17: ставка 0,3 | V17: =VLOOKUP(T17,[1]ОКТМО!$B$6:$D$553,3,0) -> 23 г.Саранск (городской округ) | W17: =Q17/P17 -> 12962.9
A18: 13:23:1111259:146 | B18: ГРЕЧАНИНА ВАЛЕНТИНА АЛЕКСАНДРОВНА | C18: 132802564529 | D18: 35909 | E18: 41270 | F18: 1/1 | G18: 1 | H18: 41270 | I18: 001001001000 - Собственность | J18: 41088 | K18: 13:23:1458:0:373:56:А:0 | L18: =(P18-50)/P18*(Q18*M18)*G18 -> 4654.2968 | M18: 0.003 | N18: Жилые дома | O18: жилой дом | P18: 110.2 | Q18: 2839997.3 | R18: 89401000000 | S18: 430004, РОССИЯ, , , г Саранск, , ул Мордовская, 56, , | T18: 89701000 | U18: ставка 0,3 | V18: =VLOOKUP(T18,[1]ОКТМО!$B$6:$D$553,3,0) -> 23 г.Саранск (городской округ) | W18: =Q18/P18 -> 25771.3
A19: 13:23:1202001:2361 | B19: ИШЕНИН ВИКТОР ФЕДОРОВИЧ | C19: 132704820502 | D19: 36329 | E19: 43568 | F19: 1/1 | G19: 1 | H19: 43568 | I19: 001001001000 - Собственность | J19: 41088 | K19: 13:23:1461:0:2:81:А:0 | M19: 0.003 | N19: Жилые дома | O19: жилой дом | P19: 43.7 | Q19: 497178.83 | R19: 89401000000 | S19: 430910, РОССИЯ, , , г Саранск, рп Луховка, ул Советская, 81, , | T19: 89701000 | U19: ставка 0,3 | V19: =VLOOKUP(T19,[1]ОКТМО!$B$6:$D$553,3,0) -> 23 г.Саранск (городской округ) | W19: =Q19/P19 -> 11377.09
A20: 13:23:1102212:478 | B20: ШИЛЯЕВА НИНА ФЕДОРОВНА | C20: 132806754143 | D20: 33970 | E20: 41105 | F20: 1/1 | G20: 1 | H20: 41105 | I20: 001001001000 - Собственность | J20: 41088 | K20: 13-13-01/382/2010-650 | L20: =(P20-50)/P20*(Q20*M20)*G20 -> 708.78447 | M20: 0.003 | N20: Жилые дома | O20: жилой дом | P20: 60.6 | Q20: 1350702.5 | R20: 89401000000 | S20: 430012, РОССИЯ, , , г Саранск, , ул Алтайская, 24, , | T20: 89701000 | U20: ставка 0,3 | V20: =VLOOKUP(T20,[1]ОКТМО!$B$6:$D$553,3,0) -> 23 г.Саранск (городской округ) | W20: =Q20/P20 -> 22288.82
A21: 13:23:1113249:728 | B21: ХМЕЛЬКОВ ПАВЕЛ АЛЕКСАНДРОВИЧ | C21: 132808531840 | D21: 41733 | E21: 43879 | F21: 1/1 | G21: 1 | H21: 43879 | I21: 001001001000 - Собственность | J21: 41088 | K21: 13:23:1458:0:472:61:А:0 | L21: =(P21-50)/P21*(Q21*M21)*G21 -> 1752.5662 | M21: 0.003 | N21: Жилые дома | O21: Жилой дом | P21: 77 | Q21: 1666019.7 | R21: 89401000000 | S21: 430007, РОССИЯ, , , г Саранск, , ул Осипенко, 61, , | T21: 89701000 | U21: ставка 0,3 | V21: =VLOOKUP(T21,[1]ОКТМО!$B$6:$D$553,3,0) -> 23 г.Саранск (городской округ) | W21: =Q21/P21 -> 21636.62
A22: 13:23:1202001:2615 | B22: КЛИНКОВА АНТОНИНА ЕГОРОВНА | C22: 132814409768 | D22: 33970 | E22: 43632 | F22: 1/1 | G22: 1 | H22: 43632 | I22: 001001001000 - Собственность | J22: 41088 | K22: 13-13-01/199/2013-185 | L22: =(P22-50)/P22*(Q22*M22)*G22 -> 304.77297 | M22: 0.003 | N22: Жилые дома | O22: Жилой дом | P22: 53 | Q22: 1794774.1 | R22: 89401000000 | S22: 430910, РОССИЯ, , , г Саранск, рп Луховка, ул Садовая, 22, , | T22: 89701000 | U22: ставка 0,3 | V22: =VLOOKUP(T22,[1]ОКТМО!$B$6:$D$553,3,0) -> 23 г.Саранск (городской округ) | W22: =Q22/P22 -> 33863.663
A23: 13:23:1113250:705 | B23: ЖИРНОВ ПАВЕЛ ФЕДОРОВИЧ | C23: 132814429595 | D23: 33970 | E23: 41275 | F23: 11/25 | G23: 0.44 | H23: 41275 | I23: 001001002000 - Общая долевая собственность | J23: 41088 | K23: 13-13-01/202/2009-286 | L23: =(P23-50)/P23*(Q23*M23)*G23 -> 1370.3897 | M23: 0.003 | N23: Жилые дома | O23: Жилой дом | P23: 96 | Q23: 2166624 | R23: 89401000000 | S23: 430027, РОССИЯ, , , г Саранск, , ул Павлика Морозова, 72, , | T23: 89701000 | U23: ставка 0,3 | V23: =VLOOKUP(T23,[1]ОКТМО!$B$6:$D$553,3,0) -> 23 г.Саранск (городской округ) | W23: =Q23/P23 -> 22569
A24: 13:23:0901177:84 | B24: УХТИНСКАЯ ГАЛИНА АЛЕКСАНДРОВНА | C24: 132811348732 | D24: 38463 | E24: 42134 | F24: 1/1 | G24: 1 | H24: 42134 | I24: 001001001000 - Собственность | J24: 41088 | K24: 13:23:1459:0:590:44А:А:0 | L24: =(P24-50)/P24*(Q24*M24)*G24 -> 1789.3942 | M24: 0.003 | N24: Жилые дома | O24: жилой дом | P24: 82.3 | Q24: 1519784.7 | R24: 89401910002 | S24: 430901, РОССИЯ, , , г Саранск, д Полянки, ул Рабочая, 44А, , | T24: 89701000 | U24: ставка 0,3 | V24: =VLOOKUP(T24,[1]ОКТМО!$B$6:$D$553,3,0) -> 23 г.Саранск (городской округ) | W24: =Q24/P24 -> 18466.4
A25: 13:23:1001047:903 | B25: КУЗЯКИН АЛЕКСАНДР АЛЕКСЕЕВИЧ | C25: 132705012579 | D25: 41333 | E25: 42046 | F25: 1/1 | G25: 1 | H25: 41499 | I25: 001001001000 - Собственность | J25: 41088 | L25: =(P25-20)/P25*(Q25*M25)*G25 -> 914.28906 | M25: 0.001 | N25: Квартиры | P25: 55.3 | Q25: 1432299.9 | R25: 89401000000 | S25: 430021,РОССИЯ,,,Саранск г,,Веселовского ул,82,,39 | T25: 89701000 | U25: ставка 0,1 | V25: =VLOOKUP(T25,[1]ОКТМО!$B$6:$D$553,3,0) -> 23 г.Саранск (городской округ) | W25: =Q25/P25 -> 25900.54
A26: 13:23:1002053:1607 | B26: КУТЕЕВА ТАТЬЯНА ЕГОРОВНА | C26: 132703683589 | D26: 32143 | E26: 40942 | F26: 1/1 | G26: 1 | H26: 40942 | I26: 001001001000 - Собственность | J26: 41088 | K26: 13-13-01/164/2011-354 | L26: =(P26-20)/P26*(Q26*M26)*G26 -> 1144.2545 | M26: 0.001 | N26: Квартиры | P26: 63 | Q26: 1676465.9 | R26: 89401000000 | S26: 430034,РОССИЯ,,,Саранск г,,Миронова ул,9,1,33 | T26: 89701000 | U26: ставка 0,1 | V26: =VLOOKUP(T26,[1]ОКТМО!$B$6:$D$553,3,0) -> 23 г.Саранск (городской округ) | W26: =Q26/P26 -> 26610.57
A27: 13:23:1001047:1269 | B27: СИНИЦЫНА РОЗА ЮСУПОВНА | C27: 132701237109 | D27: 25569 | E27: 42741 | F27: 1/1 | G27: 1 | H27: 42741 | I27: 001001001000 - Собственность | J27: 41088 | K27: 13:23:169/2004:135 | L27: =(P27-20)/P27*(Q27*M27)*G27 -> 602.01489 | M27: 0.001 | N27: Квартиры | P27: 42.9 | Q27: 1127792.1 | R27: 89401000000 | S27: 430023,РОССИЯ,,,Саранск г,,60 лет Октября пр-кт,103,,15 | T27: 89701000 | U27: ставка 0,1 | V27: =VLOOKUP(T27,[1]ОКТМО!$B$6:$D$553,3,0) -> 23 г.Саранск (городской округ) | W27: =Q27/P27 -> 26288.86
A28: 13:23:1001047:1269 | B28: НАЙМАТУЛИН ФЯРИД ЮСУПОВИЧ | C28: 132802027852 | D28: 42741 | E28: 43749 | F28: 1/3 | G28: 0.33333333 | H28: 43749 | J28: 41088 | K28: 13:23:169/2004:135 | L28: =(P28-20)/P28*(Q28*M28)*G28 -> 200.67163 | M28: 0.001 | N28: Квартиры | P28: 42.9 | Q28: 1127792.1 | R28: 89401000000 | S28: 430023,РОССИЯ,,,Саранск г,,60 лет Октября пр-кт,103,,15 | T28: 89701000 | U28: ставка 0,1 | V28: =VLOOKUP(T28,[1]ОКТМО!$B$6:$D$553,3,0) -> 23 г.Саранск (городской округ) | W28: =Q28/P28 -> 26288.86
A29: 13:23:1002045:1236 | B29: МИЗЯЕВА ТАТЬЯНА АЛЕКСЕЕВНА | C29: 132705970204 | D29: 31048 | E29: 43774 | F29: 1/1 | G29: 1 | H29: 43774 | I29: 001001001000 - Собственность | K29: 13-13-01/234/2005-269 | L29: =(P29-20)/P29*(Q29*M29)*G29 -> 864.20443 | M29: 0.001 | N29: Квартиры | P29: 52.7 | Q29: 1392769.8 | R29: 89401000000 | S29: 430034,РОССИЯ,,,Саранск г,,Пушкина ул,76,,47 | T29: 89701000 | U29: ставка 0,1 | V29: =VLOOKUP(T29,[1]ОКТМО!$B$6:$D$553,3,0) -> 23 г.Саранск (городской округ) | W29: =Q29/P29 -> 26428.27
A30: 13:23:1002055:408 | B30: ДАНЧИНА АЛЬБИНА НИКОЛАЕВНА | C30: 132703269508 | D30: 36644 | E30: 41006 | F30: 1/1 | G30: 1 | H30: 41006 | I30: 001001001000 - Собственность | K30: 13:23:1457:0:327:55:А:3 | L30: =(P30-20)/P30*(Q30*M30)*G30 -> 473.37691 | M30: 0.001 | N30: Квартиры | P30: 37.1 | Q30: 1027034.1 | R30: 89401000000 | S30: 430013,РОССИЯ,,,Саранск г,,Коваленко ул,55,,3 | T30: 89701000 | U30: ставка 0,1 | V30: =VLOOKUP(T30,[1]ОКТМО!$B$6:$D$553,3,0) -> 23 г.Саранск (городской округ) | W30: =Q30/P30 -> 27682.86
A31: 13:23:1002055:303 | B31: КОЛЬТЯПИНА АННА НИКОЛАЕВНА | C31: 132300786775 | D31: 43238 | E31: 43966 | F31: 1/1 | G31: 1 | H31: 43966 | I31: 001001001000 - Собственность | J31: 41088 | K31: 13-13-01/005/2009-183 | L31: =(P31-20)/P31*(Q31*M31)*G31 -> 473.37691 | M31: 0.001 | N31: Квартиры | P31: 37.1 | Q31: 1027034.1 | R31: 89401000000 | S31: 430013,РОССИЯ,,,Саранск г,,Коваленко ул,55,1,78 | T31: 89701000 | U31: ставка 0,1 | V31: =VLOOKUP(T31,[1]ОКТМО!$B$6:$D$553,3,0) -> 23 г.Саранск (городской округ) | W31: =Q31/P31 -> 27682.86
A32: 13:23:1201002:453 | B32: КИЗРИНА АНТОНИНА ФЕДОРОВНА | C32: 132807868376 | D32: 40494 | E32: 43215 | F32: 1/1 | G32: 1 | H32: 43215 | I32: 001001001000 - Собственность | K32: 13-13-01/261/2011-071 | L32: =(P32-50)/P32*(Q32*M32)*G32 -> 1320.4984 | M32: 0.003 | N32: Жилые дома | O32: жилой дом | P32: 75.1 | Q32: 1316991.1 | R32: 89401910004 | S32: 430901, РОССИЯ, , , г Саранск, с Монастырское, ул Кооперативная, 3, , | T32: 89701000 | U32: ставка 0,3 | V32: =VLOOKUP(T32,[1]ОКТМО!$B$6:$D$553,3,0) -> 23 г.Саранск (городской округ) | W32: =Q32/P32 -> 17536.5
A33: 13:23:1113250:491 | B33: КУДЮМОВА НИНА АЛЕКСАНДРОВНА | C33: 132806229024 | D33: 39350 | E33: 43564 | F33: 1/1 | G33: 1 | H33: 43564 | I33: 001001001000 - Собственность | K33: 13-13-01/220/2009-044 | L33: =(P33-50)/P33*(Q33*M33)*G33 -> 237.45225 | M33: 0.003 | N33: Жилые дома | O33: жилой дом | P33: 53.5 | Q33: 1209875.8 | R33: 89401000000 | S33: 430007, РОССИЯ, , , г Саранск, , ул Ломоносова, 8, , | T33: 89701000 | U33: ставка 0,3 | V33: =VLOOKUP(T33,[1]ОКТМО!$B$6:$D$553,3,0) -> 23 г.Саранск (городской округ) | W33: =Q33/P33 -> 22614.5
A34: 13:23:1201002:759 | B34: ЗАВОДОВА ВАЛЕНТИНА ИВАНОВНА | C34: 132805068712 | D34: 33970 | E34: 43936 | F34: 1/1 | G34: 1 | H34: 43936 | I34: 001001001000 - Собственность | K34: 13-13-01/072/2010-067 | L34: =(P34-50)/P34*(Q34*M34)*G34 -> 168.3504 | M34: 0.003 | N34: Жилые дома | O34: жилой дом | P34: 53.2 | Q34: 932941.8 | R34: 89401910004 | S34: 430901, РОССИЯ, , , г Саранск, с Монастырское, ул Кооперативная, 42, , | T34: 89701000 | U34: ставка 0,3 | V34: =VLOOKUP(T34,[1]ОКТМО!$B$6:$D$553,3,0) -> 23 г.Саранск (городской округ) | W34: =Q34/P34 -> 17536.5
A35: 13:23:1002045:1363 | B35: ЕЛИСТРАТОВ АЛЕКСАНДР АЛЕКСЕЕВИЧ | C35: 132705081188 | D35: 30682 | E35: 42007 | F35: 1/1 | G35: 1 | H35: 42007 | I35: 001001001000 - Собственность | J35: 41088 | K35: 13-13-01/037/2010-356 | L35: =(P35-20)/P35*(Q35*M35)*G35 -> 774.34831 | M35: 0.001 | N35: Квартиры | P35: 49.3 | Q35: 1302913.7 | R35: 89401000000 | S35: 430034,РОССИЯ,,,Саранск г,,Пушкина ул,82,,3 | T35: 89701000 | U35: ставка 0,1 | V35: =VLOOKUP(T35,[1]ОКТМО!$B$6:$D$553,3,0) -> 23 г.Саранск (городской округ) | W35: =Q35/P35 -> 26428.27
A36: 13:23:1113250:991 | B36: СКАЛКИН АЛЕКСАНДР КУЗЬМИЧ | C36: 132806117000 | D36: 33970 | E36: 43963 | F36: 1/1 | G36: 1 | H36: 43963 | I36: 001001001000 - Собственность | J36: 41516 | K36: 13-13-01/361/2012-041 | L36: =(P36-50)/P36*(Q36*M36)*G36 -> 555.1974 | M36: 0.003 | N36: Жилые дома | O36: Жилой дом | P36: 58.2 | Q36: 1313515.8 | R36: 89401000000 | S36: 430007, РОССИЯ, , , г Саранск, , ул Институтская, 17, , | T36: 89701000 | U36: ставка 0,3 | V36: =VLOOKUP(T36,[1]ОКТМО!$B$6:$D$553,3,0) -> 23 г.Саранск (городской округ) | W36: =Q36/P36 -> 22569
A37: 13:23:1201002:521 | B37: КОРНИШИН ИВАН СЕМЕНОВИЧ | C37: 132807573140 | D37: 33970 | E37: 42537 | F37: 1/1 | G37: 1 | H37: 42537 | I37: 001001001000 - Собственность | J37: 41088 | L37: =(P37-50)/P37*(Q37*M37)*G37 -> 436.65885 | M37: 0.003 | N37: Жилые дома | O37: жилой дом | P37: 58.3 | Q37: 1022377.9 | R37: 89401910004 | S37: 430901, РОССИЯ, , , г Саранск, с Монастырское, ул Первомайская, 39, , | T37: 89701000 | U37: ставка 0,3 | V37: =VLOOKUP(T37,[1]ОКТМО!$B$6:$D$553,3,0) -> 23 г.Саранск (городской округ) | W37: =Q37/P37 -> 17536.5
A38: 13:23:1002045:441 | B38: ТРОФИМОВА ПЕЛАГЕЯ СЕРГЕЕВНА | C38: 132702064064 | D38: 40000 | E38: 42561 | F38: 1/1 | G38: 1 | H38: 42561 | I38: 001001001000 - Собственность | K38: 13-13-01/165/2009-254 | L38: =(P38-20)/P38*(Q38*M38)*G38 -> 774.34831 | M38: 0.001 | N38: Квартиры | P38: 49.3 | Q38: 1302913.7 | R38: 89401000000 | S38: 430034,РОССИЯ,,,Саранск г,,Пушкина ул,66,,35 | T38: 89701000 | U38: ставка 0,1 | V38: =VLOOKUP(T38,[1]ОКТМО!$B$6:$D$553,3,0) -> 23 г.Саранск (городской округ) | W38: =Q38/P38 -> 26428.27
A39: 13:23:1002046:2500 | B39: ЧИКАНАКОВА НАТАЛЬЯ ДМИТРИЕВНА | C39: 132703625259 | D39: 41472 | E39: 43785 | F39: 1/1 | G39: 1 | H39: 43785 | I39: 001001001000 - Собственность | J39: 41626 | K39: 13:23:202/2004:239 | L39: =(P39-20)/P39*(Q39*M39)*G39 -> 345.15552 | M39: 0.001 | N39: Квартиры | P39: 32.7 | Q39: 888707.52 | R39: 89401000000 | S39: 430034,РОССИЯ,,,Саранск г,,60 лет Октября пр-кт,10,,51 | T39: 89701000 | U39: ставка 0,1 | V39: =VLOOKUP(T39,[1]ОКТМО!$B$6:$D$553,3,0) -> 23 г.Саранск (городской округ) | W39: =Q39/P39 -> 27177.6
A40: 13:23:1201002:671 | B40: КОЧЕТКОВ НИКОЛАЙ АЛЕКСЕЕВИЧ | C40: 132804492460 | D40: 39001 | E40: 43867 | F40: 1/1 | G40: 1 | H40: 43867 | I40: 001001001000 - Собственность | J40: 41088 | K40: 13-13-01/225/2006-109 | L40: =(P40-50)/P40*(Q40*M40)*G40 -> 1104.7995 | M40: 0.003 | N40: Жилые дома | O40: Индивидуальный жилой дом | P40: 71 | Q40: 1245091.5 | R40: 89401910004 | S40: 430901, РОССИЯ, , , г Саранск, с Монастырское, ул Набережная, 21, , | T40: 89701000 | U40: ставка 0,3 | V40: =VLOOKUP(T40,[1]ОКТМО!$B$6:$D$553,3,0) -> 23 г.Саранск (городской округ) | W40: =Q40/P40 -> 17536.5
...

Sheet Лист1
A2: Названия строк | B2: Количество по полю Дата регистрации владения | C2: Сумма по полю Налог
A3: 01 Ардатовский район | B3: 612 | C3: 90713.049 | J3: Колличество | K3: ставка 0,3 | L3: ставка 0,1 | M3: ставка 0,2 | N3: ставка 0
A4: 02 Атюрьевский район | B4: 128 | C4: 144424.26 | J4: 612 | K4: 1.9705065e+08 | L4: 19407820 | O4: =K4*0.3%+L4*0.1%+M4*0.2% -> 610559.78
A5: 03 Атяшевский район | B5: 451 | C5: 59568.045 | J5: 128 | K5: 56804928 | L5: 4128414.5 | O5: =K5*0.3%+L5*0.1%+M5*0.2% -> 174543.2
A6: 04 Б.Березниковский район | B6: 275 | C6: 84955.932 | J6: 451 | K6: 1.3355812e+08 | L6: 17590910 | O6: =K6*0.3%+L6*0.1%+M6*0.2% -> 418265.28
A7: 05 Б.Игнатовский район | B7: 142 | C7: 9442.6817 | J7: 275 | K7: 88794355 | L7: 9209898.1 | N7: 0 | O7: =K7*0.3%+L7*0.1%+M7*0.2% -> 275592.96
A8: 06 Дубенский район | B8: 194 | C8: 31673.509 | J8: 142 | K8: 24378365 | L8: 4883727 | O8: =K8*0.3%+L8*0.1%+M8*0.2% -> 78018.821
A9: 07 Ельниковский район | B9: 142 | C9: 19738.284 | J9: 194 | K9: 52514917 | L9: 7261945.8 | O9: =K9*0.3%+L9*0.1%+M9*0.2% -> 164806.7
A10: 08 Зубово-Полянский район | B10: 1067 | C10: 304021.94 | J10: 142 | K10: 23770128 | L10: 3700729.1 | N10: 0 | O10: =K10*0.3%+L10*0.1%+M10*0.2% -> 75011.114
A11: 09 Инсарский район | B11: 322 | C11: 34402.155 | J11: 1067 | K11: 3.1565333e+08 | L11: 89458619 | N11: 0 | O11: =K11*0.3%+L11*0.1%+M11*0.2% -> 1036418.6
A12: 10 Ичалковский район | B12: 200 | C12: 227334.88 | J12: 322 | K12: 1.0248163e+08 | L12: 16560929 | N12: 0 | O12: =K12*0.3%+L12*0.1%+M12*0.2% -> 324005.82
A13: 11 Кадошкинский район | B13: 140 | C13: 110854.91 | J13: 200 | K13: 1.2831874e+08 | L13: 30096057 | O13: =K13*0.3%+L13*0.1%+M13*0.2% -> 415052.29
A14: 12 Кочкуровский район | B14: 119 | C14: 51729.185 | J14: 140 | K14: 66276885 | L14: 10145785 | O14: =K14*0.3%+L14*0.1%+M14*0.2% -> 208976.44
A15: 13 Краснослободский район | B15: 270 | C15: 266050.93 | J15: 119 | K15: 64289021 | L15: 15224817 | O15: =K15*0.3%+L15*0.1%+M15*0.2% -> 208091.88
A16: 14 Лямбирский район | B16: 232 | C16: 168219.02 | J16: 270 | K16: 1.6449414e+08 | L16: 20254011 | N16: 0 | O16: =K16*0.3%+L16*0.1%+M16*0.2% -> 513736.42
A17: 15 Ромодановский район | B17: 169 | C17: 67334.755 | J17: 232 | K17: 1.4701214e+08 | L17: 62106257 | N17: 0 | O17: =K17*0.3%+L17*0.1%+M17*0.2% -> 503142.69
A18: 16 Старошайговский район | B18: 104 | C18: 82192.788 | J18: 169 | K18: 97172388 | L18: 21705233 | N18: 0 | O18: =K18*0.3%+L18*0.1%+M18*0.2% -> 313222.4
A19: 17 Темниковский район | B19: 311 | C19: 39685.612 | J19: 104 | K19: 36591988 | L19: 7792143.3 | N19: 0 | O19: =K19*0.3%+L19*0.1%+M19*0.2% -> 117568.11
A20: 18 Теньгушевский район | B20: 114 | C20: 12841.417 | J20: 311 | K20: 67531301 | L20: 20101809 | N20: 0 | O20: =K20*0.3%+L20*0.1%+M20*0.2% -> 222695.71
A21: 19 Торбеевский район | B21: 560 | C21: 76621.922 | J21: 114 | K21: 16762395 | L21: 8188654.2 | O21: =K21*0.3%+L21*0.1%+M21*0.2% -> 58475.84
A22: 20 Чамзинский район | B22: 320 | C22: 192840.45 | J22: 560 | K22: 1.3553298e+08 | L22: 21266298 | N22: 0 | O22: =K22*0.3%+L22*0.1%+M22*0.2% -> 427865.24
A23: 21 МО Ковылкино | B23: 748 | C23: 167774.07 | J23: 320 | K23: 1.2734201e+08 | L23: 66795722 | N23: 0 | O23: =K23*0.3%+L23*0.1%+M23*0.2% -> 448821.75
A24: 22 МО Рузаевка | B24: 611 | C24: 439759.05 | J24: 748 | K24: 1.8787481e+08 | L24: 62649897 | N24: 0 | O24: =K24*0.3%+L24*0.1%+M24*0.2% -> 626274.34
A25: 23 г.Саранск (городской округ) | B25: 1592 | C25: 1228797.2 | J25: 611 | K25: 3.8164407e+08 | L25: 1.644159e+08 | N25: 0 | O25: =K25*0.3%+L25*0.1%+M25*0.2% -> 1309348.1
A26: Общий итог | B26: 8823 | C26: 3910976 | J26: 1592 | K26: 5.2246028e+08 | L26: 1.0817113e+09 | M26: 27188264 | N26: 0 | O26: =K26*0.3%+L26*0.1%+M26*0.2% -> 2703468.7
J27: 8823 | K27: 3.1383096e+09 | L27: 1.7631952e+09 | M27: 27188264 | N27: 1461655 | O27: =SUM(O4:O26) -> 11233962
