Workbook

Sheet Приложение 1
C1: Приложение 1 к решению Совета депутатов Мордовско-Полянского сельского поселения Зубово-Полянского муниципального района Республики Мордовия «О внесении изменений и дополнений в бюджет Мордовско-Полянского сельского поселения Зубово-Полянского муниципального района Республики Мордовия на 2023 год и на плановый период 2024 и 2025 годы» № от 2023 г
A6: ОБЪЕМ БЕЗВОЗМЕЗДНЫХ ПОСТУПЛЕНИЙ В БЮДЖЕТ МОРДОВСКО-ПОЛЯНСКОГО СЕЛЬСКОГО ПОСЕЛЕНИЯ ЗУБОВО-ПОЛЯНСКОГО МУНИЦИПАЛЬНОГО РАЙОНА РЕСПУБЛИКИ МОРДОВИЯ НА 2023 ГОД И НА ПЛАНОВЫЙ ПЕРИОД 2024 И 2025 ГОДЫ
E7: (тыс. рублей)
A8: Код | B8: Наименование | C8: Сумма
C9: 2023 год | D9: 2024 год | E9: 2025 год
A10: 1 | B10: 2 | C10: 3 | D10: 4 | E10: 5
A11: 850 00000 00 0000 000 | B11: ДОХОДЫ БЮДЖЕТА -ВСЕГО | C11: =C12+C27 -> 4908.17 | D11: =D12+D27 -> 1474.6 | E11: =E12+E27 -> 1440.5
A12: 100 00000 00 0000 000 | B12: НАЛОГОВЫЕ И НЕНАЛОГОВЫЕ ДОХОДЫ | C12: =C13+C18+C23+C25 -> 745.17 | D12: =D13+D18+D23+D25 -> 573.4 | E12: =E13+E18+E23+E25 -> 511.7
A13: 101 00000 00 0000 000 | B13: НАЛОГИ НА ПРИБЫЛЬ, ДОХОДЫ | C13: =C14 -> 53 | D13: =D14 -> 57.1 | E13: =E14 -> 58.8
A14: 101 02000 01 0000 110 | B14: Налог на доходы физических лиц | C14: =C15+C16+C17 -> 53 | D14: =D15+D16+D17 -> 57.1 | E14: =E15+E16+E17 -> 58.8
A15: 101 02010 01 0000 110 | B15: Налог на доходы физических лиц с доходов, источником которых является налоговый агент, за исключением доходов, в отношении которых исчисление и уплата налога осуществляются в соответствии со статьями 227, 2271 и 228 Налогового кодекса Российской Федерации (сумма платежа (перерасчеты, недоимка и задолженность по соответствующему платежу, в том числе по отмененному) | C15: 52.8 | D15: 56.9 | E15: 58.6
A16: 101 02020 01 0000 110 | B16: Налог на доходы физических лиц с доходов, полученных от осуществления деятельности физическими лицами, зарегистрированными в качестве индивидуальных предпринимателей, нотариусов, занимающихся частной практикой, адвокатов, учредивших адвокатские кабинеты, и других лиц, занимающихся частной практикой в соответствии со статьей 227 Налогового кодекса Российской Федерации | C16: 0.1 | D16: 0.1 | E16: 0.1
A17: 101 02030 01 0000 110 | B17: Налог на доходы физических лиц с доходов, полученных физическими лицами в соответствии со статьей 228 Налогового кодекса Российской Федерации | C17: 0.1 | D17: 0.1 | E17: 0.1
A18: 106 00000 00 0000 000 | B18: НАЛОГИ НА ИМУЩЕСТВО | C18: =C19+C20 -> 522.7 | D18: =D19+D20 -> 516.3 | E18: =E19+E20 -> 452.9
A19: 106 01030 10 0000110 | B19: Налог на имущество физических лиц, взимаемый по ставкам, применяемым к объектам налогообложения, расположенным в границах сельских поселений (сумма платежа (перерасчеты, недоимка и задолженность по соответствующему платежу, в том числе по отмененному) | C19: 31.3 | D19: 30.6 | E19: 29.8
A20: 106 06000 00 0000 110 | B20: ЗЕМЕЛЬНЫЙ НАЛОГ | C20: =C21+C22 -> 491.4 | D20: =D21+D22 -> 485.7 | E20: =E21+E22 -> 423.1
A21: 106 06033 10 0000 110 | B21: Земельный налог с организаций, обладающих земельным участком, расположенным в границах сельских поселений | C21: 331.4 | D21: 335.7 | E21: 293.1
A22: 106 06043 10 0000 110 | B22: Земельный налог с физических лиц, обладающих земельным участком, расположенным в границах сельских поселений | C22: 160 | D22: 150 | E22: 130
A23: 114 00000 00 0000 000 | B23: ДОХОДЫ ОТ ПРОДАЖИ МАТЕРИАЛЬНЫХ И НЕМАТЕРИАЛЬНЫХ АКТИВОВ | C23: =C24 -> 139.47 | D23: =D24 -> 0 | E23: =E24 -> 0
A24: 114 06025 10 0000 430 | B24: Доходы от продажи земельных участков, находящихся в собственности сельских поселений (за исключением земельных участков муниципальных бюджетных и автономных учреждений) | C24: 139.47 | D24: 0 | E24: 0
A25: 117 00000 00 0000 000 | B25: Прочие неналоговые доходы | C25: =C26 -> 30 | D25: =D26 -> 0 | E25: =E26 -> 0
A26: 117 14030 10 00000 150 | B26: Средства самообложения граждан, зачисляемые в бюджеты сельских поселений | C26: =5.5+24.5 -> 30 | D26: 0 | E26: 0
A27: 200 00000 00 0000 000 | B27: БЕЗВОЗМЕЗДНЫЕ ПОСТУПЛЕНИЯ | C27: =C28 -> 4163 | D27: =D28 -> 901.2 | E27: =E28 -> 928.8
A28: 202 00000 00 0000 000 | B28: БЕЗВОЗМЕЗДНЫЕ ПОСТУПЛЕНИЯ ОТ ДРУГИХ БЮДЖЕТОВ БЮДЖЕТНОЙ СИСТЕМЫ РОССИЙСКОЙ ФЕДЕРАЦИИ | C28: =C29+C34+C37+C42 -> 4163 | D28: =D29+D34+D37+D42 -> 901.2 | E28: =E29+E34+E37+E42 -> 928.8
A29: 202 10000 00 0000 150 | B29: Дотации бюджетам бюджетной системы Российской Федерации | C29: =C30+C32 -> 1002.6 | D29: =D30+D32 -> 636.1 | E29: =E30+E32 -> 659.3
A30: 202 15001 00 0000 150 | B30: Дотации на выравнивание бюджетной обеспеченности | C30: =C31 -> 706.6 | D30: =D31 -> 636.1 | E30: =E31 -> 659.3
A31: 202 15001 10 0000 150 | B31: Дотации бюджетам сельских поселений на выравнивание бюджетной обеспеченности из бюджета субъекта Российской Федерации | C31: 706.6 | D31: 636.1 | E31: 659.3
A32: 202 15002 00 0000 150 | B32: Дотации бюджетам на поддержку мер по обеспечению сбалансированности бюджетов | C32: =C33 -> 296 | D32: =D33 -> 0 | E32: =E33 -> 0
A33: 202 15002 10 0000 150 | B33: Дотации бюджетам сельских поселений на поддержку мер по обеспечению сбалансированности бюджетов | C33: 296 | D33: 0 | E33: 0
A34: 202 20000 00 0000 000 | B34: СУБСИДИИ бюджетам бюджетной системы Российской Федерации (межбюджетные субсидии) | C34: =C35 -> 70 | D34: =D35 -> 0 | E34: =E35 -> 0
A35: 202 29999 00 0000 150 | B35: Прочие субсидии | C35: =C36 -> 70 | D35: =D36 -> 0 | E35: =E36 -> 0
A36: 202 29999 10 0000 150 | B36: Прочие субсидии бюджетам сельских поселений | C36: 70 | D36: 0 | E36: 0
A37: 202 30000 00 0000 150 | B37: Субвенции бюджетам бюджетной системы Российской Федерации | C37: =C38+C40 -> 110 | D37: =D38+D40 -> 115.1 | E37: =E38+E40 -> 119.5
A38: 202 30024 00 0000 150 | B38: Субвенции местным бюджетам на выполнение передаваемых полномочий субъектов Российской Федерации | C38: =C39 -> 0.7 | D38: =D39 -> 0.7 | E38: =E39 -> 0.8
A39: 202 30024 10 0000 150 | B39: Субвенции бюджетам сельских поселений на выполнение передаваемых полномочий субъектов Российской Федерации | C39: 0.7 | D39: 0.7 | E39: 0.8
A40: 202 35118 00 0000 150 | B40: Субвенции бюджетам на осуществление первичного воинского учета на территориях, где отсутствуют военные комиссариаты | C40: =C41 -> 109.3 | D40: =D41 -> 114.4 | E40: =E41 -> 118.7
A41: 202 35118 10 0000 150 | B41: Субвенции на осуществление государственных полномочий Российской Федерации по первичному воинскому учету на территориях, где отсутствуют военные комиссариаты | C41: 109.3 | D41: 114.4 | E41: 118.7
A42: 202 40000 00 0000 000 | B42: ИНЫЕ МЕЖБЮДЖЕТНЫЕ ТРАНСФЕРТЫ | C42: =C43+C45 -> 2980.4 | D42: =D43+D45 -> 150 | E42: =E43+E45 -> 150
A43: 202 40014 00 0000 150 | B43: Межбюджетные трансферты, передаваемые бюджетам муниципальных образований на осуществление части полномочий по решению вопросов местного значения в соответствии с заключенными соглашениями | C43: =C44 -> 150 | D43: =D44 -> 150 | E43: =E44 -> 150
A44: 202 40014 10 0000 150 | B44: Межбюджетные трансферты, передаваемые бюджетам сельских поселений из бюджетов муниципальных районов на осуществление части полномочий по решению вопросов местного значения в соответствии с заключенными соглашениями | C44: 150 | D44: 150 | E44: 150
...

Sheet Приложение 2
I1: Приложение 2 к решению Совета депутатов Мордовско-Полянского сельского поселения Зубово-Полянского муниципального района Республики Мордовия «О внесении изменений и дополнений в бюджет Мордовско-Полянского сельского поселения Зубово-Полянского муниципального района Республики Мордовия на 2023 год и на плановый период 2024 и 2025 годы» № от 2023 г
A2: ВЕДОМСТВЕННАЯ СТРУКТУРА РАСХОДОВ БЮДЖЕТА МОРДОВСКО-ПОЛЯНСКОГО СЕЛЬСКОГО ПОСЕЛЕНИЯ ЗУБОВО-ПОЛЯНСКОГО МУНИЦИПАЛЬНОГО РАЙОНА РЕСПУБЛИКИ МОРДОВИЯ НА 2023 ГОД И НА ПЛАНОВЫЙ ПЕРИОД 2024 И 2025 ГОДЫ
I3: (тыс. рублей)
A4: Наименование | B4: Адм | C4: Рз | D4: Прз | E4: Цср | I4: Вр | J4: Сумма
J5: 2023 год | K5: 2024 год | L5: 2025 год
A6: 1 | B6: 2 | C6: 3 | D6: 4 | E6: 5 | F6: 6 | G6: 7 | H6: 8 | I6: 9 | J6: 10 | K6: 11 | L6: 12
A7: ВСЕГО | J7: =J8+J39+J49+J56+J66+J73+J83 -> 4908.17 | K7: =K8+K39+K49+K56+K66+K73+K83 -> 1474.6 | L7: =L8+L39+L49+L56+L66+L73+L83 -> 1440.5
A8: Администрация Мордовско-Полянского сельского поселения Зубово-Полянского муниципального района Республики Мордовия | B8: 923 | C8: 01 | J8: =J9+J15+J32 -> 1343 | K8: =K9+K15+K32 -> 939 | L8: =L9+L15+L32 -> 853.1
A9: Функционирование главы администрации Мордовско-Полянского сельского поселения Зубово-Полянского муниципального района | B9: 923 | C9: 01 | D9: 02 | J9: =J10 -> 409.8 | K9: =K10 -> 309.8 | L9: =L10 -> 309.8
A10: Обеспечение деятельности администрации Мордовско-Полянского сельского поселения Зубово-Полянского муниципального района | B10: 923 | C10: 01 | D10: 02 | E10: 65 | J10: =J11 -> 409.8 | K10: =K11 -> 309.8 | L10: =L11 -> 309.8
A11: Обеспечение деятельности главы администрации Мордовско-Полянского сельского поселения Зубово-Полянского муниципального района | B11: 923 | C11: 01 | D11: 02 | E11: 65 | F11: 2 | J11: =J12 -> 409.8 | K11: =K12 -> 309.8 | L11: =L12 -> 309.8
A12: Расходы на выплаты по оплате труда высшего должностного лица | B12: 923 | C12: 01 | D12: 02 | E12: 65 | F12: 2 | G12: 00 | H12: 41150 | J12: =J14 -> 409.8 | K12: =K14 -> 309.8 | L12: =L14 -> 309.8
A13: Расходы на выплаты персоналу в целях обеспечения выполнения функций государственными (муниципальными) органами, казенными учреждениями, органами управления государственными внебюджетными фондами | B13: 923 | C13: 01 | D13: 02 | E13: 65 | F13: 2 | G13: 00 | H13: 41150 | I13: 100 | J13: =J14 -> 409.8 | K13: =K14 -> 309.8 | L13: =L14 -> 309.8
A14: Расходы на выплаты персоналу государственных (муниципальных) органов | B14: 923 | C14: 01 | D14: 02 | E14: 65 | F14: 2 | G14: 00 | H14: 41150 | I14: 120 | J14: 409.8 | K14: 309.8 | L14: 309.8
A15: Функционирование Правительства Российской Федерации, высших органов исполнительной власти субъектов Российской Федерации, местных администраций | B15: 923 | C15: 01 | D15: 04 | J15: =J16+J21 -> 933.2 | K15: =K16+K21 -> 628.2 | L15: =L16+L21 -> 542.3
A16: Юстиция и профилактика правонарушений | B16: 923 | C16: 01 | D16: 04 | E16: 19 | F16: 2 | J16: =J17 -> 0.7 | K16: =K17 -> 0.7 | L16: =L17 -> 0.8
A17: Основное мероприятие "Обеспечение реализации государственных полномочий" | B17: 923 | C17: 01 | D17: 04 | E17: 19 | F17: 2 | G17: 03 | J17: =J18 -> 0.7 | K17: =K18 -> 0.7 | L17: =L18 -> 0.8
A18: Осуществление государственных полномочий Республики Мордовия по определению перечня должностных лиц, уполномоченных составлять протоколы об административных правонарушениях, предусмотренных Законом Республики Мордовия от 15 июня 2015 года №38-З "Об административной ответственности на территории Республики Мордовия" | B18: 923 | C18: 01 | D18: 04 | E18: 19 | F18: 2 | G18: 03 | H18: 77150 | J18: =J19 -> 0.7 | K18: =K19 -> 0.7 | L18: =L19 -> 0.8
A19: Закупка товаров, работ и услуг для обеспечения государственных (муниципальных) нужд | B19: 923 | C19: 01 | D19: 04 | E19: 19 | F19: 2 | G19: 03 | H19: 77150 | I19: 200 | J19: =J20 -> 0.7 | K19: =K20 -> 0.7 | L19: =L20 -> 0.8
A20: Иные закупки товаров, работ и услуг для обеспечения государственных (муниципальных) нужд | B20: 923 | C20: 01 | D20: 04 | E20: 19 | F20: 2 | G20: 03 | H20: 77150 | I20: 240 | J20: 0.7 | K20: 0.7 | L20: 0.8
A21: Обеспечение деятельности аппарата Администрации Мордовско-Полянского сельского поселения Зубово-Полянского муниципального района | B21: 923 | C21: 01 | D21: 04 | E21: 65 | J21: =J22 -> 932.5 | K21: =K22 -> 627.5 | L21: =L22 -> 541.5
A22: Обеспечение деятельности Администрации Мордовско-Полянского сельского поселения Зубово-Полянского муниципального района | B22: 923 | C22: 01 | D22: 04 | E22: 65 | F22: 1 | J22: =J23 -> 932.5 | K22: =K23 -> 627.5 | L22: =L23 -> 541.5
A23: Обеспечение деятельности аппарата администрации Мордовско-Полянского сельского поселения Зубово-Полянского муниципального района | B23: 923 | C23: 01 | D23: 04 | E23: 65 | F23: 1 | G23: 00 | J23: =J24+J27 -> 932.5 | K23: =K24+K27 -> 627.5 | L23: =L24+L27 -> 541.5
A24: Расходы на выплаты по оплате труда работников органов местного самоуправления | B24: 923 | C24: 01 | D24: 04 | E24: 65 | F24: 1 | G24: 00 | H24: 41110 | J24: =J25 -> 603.41 | K24: =K25 -> 576.4 | L24: =L25 -> 504
A25: Расходы на выплаты персоналу в целях обеспечения выполнения функций государственными (муниципальными) органами, казенными учреждениями, органами управления государственными внебюджетными фондами | B25: 923 | C25: 01 | D25: 04 | E25: 65 | F25: 1 | G25: 00 | H25: 41110 | I25: 100 | J25: =J26 -> 603.41 | K25: =K26 -> 576.4 | L25: =L26 -> 504
A26: Расходы на выплаты персоналу государственных (муниципальных)органов | B26: 923 | C26: 01 | D26: 04 | E26: 65 | F26: 1 | G26: 00 | H26: 41110 | I26: 120 | J26: 603.41 | K26: 576.4 | L26: 504
A27: Расходы на обеспечение функций органов местного самоуправления | B27: 923 | C27: 01 | D27: 04 | E27: 65 | F27: 1 | G27: 00 | H27: 41120 | J27: =J28+J30 -> 329.09 | K27: =K28+K30 -> 51.1 | L27: =L28+L30 -> 37.5
A28: Закупка товаров, работ и услуг для обеспечения государственных (муниципальных) нужд | B28: 923 | C28: 01 | D28: 04 | E28: 65 | F28: 1 | G28: 00 | H28: 41120 | I28: 200 | J28: =J29 -> 290.99 | K28: =K29 -> 13 | L28: =L29 -> 16.4
A29: Иные закупки товаров, работ и услуг для обеспечения государственных (муниципальных) нужд | B29: 923 | C29: 01 | D29: 04 | E29: 65 | F29: 1 | G29: 00 | H29: 41120 | I29: 240 | J29: 290.99 | K29: 13 | L29: 16.4
A30: Иные бюджетные ассигнования | B30: 923 | C30: 01 | D30: 04 | E30: 65 | F30: 1 | G30: 00 | H30: 41120 | I30: 800 | J30: =J31 -> 38.1 | K30: =K31 -> 38.1 | L30: =L31 -> 21.1
A31: Уплата налогов, сборов и иных платежей | B31: 923 | C31: 01 | D31: 04 | E31: 65 | F31: 1 | G31: 00 | H31: 41120 | I31: 850 | J31: 38.1 | K31: 38.1 | L31: 21.1
A32: Резервные фонды | B32: 923 | C32: 01 | D32: 11 | J32: =J33 -> 0 | K32: =K33 -> 1 | L32: =L33 -> 1
A33: Непрограмные расходы главных распорядителей бюджетных средств | B33: 923 | C33: 01 | D33: 11 | E33: 89 | J33: =J34 -> 0 | K33: =K34 -> 1 | L33: =L34 -> 1
A34: Непрограмные расходы в рамках обеспечения деятельности главных распорядителей бюджетных средств | B34: 923 | C34: 01 | D34: 11 | E34: 89 | F34: 1 | J34: =J35 -> 0 | K34: =K35 -> 1 | L34: =L35 -> 1
A35: Расходы, связанные с муниципальным управлением | B35: 923 | C35: 01 | D35: 11 | E35: 89 | F35: 1 | G35: 00 | H35: 41000 | J35: =J36 -> 0 | K35: =K36 -> 1 | L35: =L36 -> 1
A36: Резервные фонды Мордовско-Полянского сельского поселения Зубово-Полянского муниципального района | B36: 923 | C36: 01 | D36: 11 | E36: 89 | F36: 1 | G36: 00 | H36: 41180 | J36: =J37 -> 0 | K36: =K37 -> 1 | L36: =L37 -> 1
A37: Иные бюджетные ассигнования | B37: 923 | C37: 01 | D37: 11 | E37: 89 | F37: 1 | G37: 00 | H37: 41180 | I37: 800 | J37: =J38 -> 0 | K37: =K38 -> 1 | L37: =L38 -> 1
A38: Резервные средства | B38: 923 | C38: 01 | D38: 11 | E38: 89 | F38: 1 | G38: 00 | H38: 41180 | I38: 870 | J38: 0 | K38: 1 | L38: 1
A39: Национальная оборона | B39: 923 | C39: 02 | J39: =J40 -> 109.3 | K39: =K40 -> 114.4 | L39: =L40 -> 118.7
A40: Мобилизационная и вневойсковая подготовка | B40: 923 | C40: 02 | D40: 03 | J40: =J41 -> 109.3 | K40: =K44 -> 114.4 | L40: =L44 -> 118.7
...

Sheet Приложение 3
H1: Приложение 3 к решению Совета депутатов Мордовско-Полянского сельского поселения Зубово-Полянского муниципального района Республики Мордовия «О внесении изменений и дополнений в бюджет Мордовско-Полянского сельского поселения Зубово-Полянского муниципального района Республики Мордовия на 2023 год и на плановый период 2024 и 2025 годы» № от 2023г
A2: РАСПРЕДЕЛЕНИЕ БЮДЖЕТНЫХ АССИГНОВАНИЙ БЮДЖЕТА МОРДОВСКО-ПОЛЯНСКОГО СЕЛЬСКОГО ПОСЕЛЕНИЯ ЗУБОВО-ПОЛЯНСКОГО МУНИЦИПАЛЬНОГО РАЙОНА РЕСПУБЛИКИ МОРДОВИЯ ПО РАЗДЕЛАМ, ПОДРАЗДЕЛАМ, ЦЕЛЕВЫМ СТАТЬЯМ (МУНИЦИПАЛЬНЫМ ПРОГРАММАМ И НЕПРОГРАММНЫМ НАПРАВЛЕНИЯМ ДЕЯТЕЛЬНОСТИ), ГРУППАМ И ПОДГРУППАМ ВИДОВ РАСХОДОВ КЛАССИФИКАЦИИ РАСХОДОВ БЮДЖЕТОВ НА 2023 ГОД И НА ПЛАНОВЫЙ ПЕРИОД 2024 И 2025 ГОДЫ
H3: (тыс. рублей)
A4: Наименование | B4: Рз | C4: Прз | D4: Цср | H4: Вр | I4: Сумма
I5: 2023 год | J5: 2024 год | K5: 2025 год
A6: 1 | B6: 2 | C6: 3 | D6: 4 | E6: 5 | F6: 6 | G6: 7 | H6: 8 | I6: 9 | J6: 10 | K6: 11
A7: ВСЕГО | I7: =I8+I38+I48+I55+I65+I72+I82 -> 4908.17 | J7: =J8+J38+J48+J55+J65+J72+J82 -> 1474.6 | K7: =K8+K38+K48+K55+K65+K72+K82 -> 1440.5
A8: Общегосударственные вопросы | B8: 01 | I8: =I9+I15+I31 -> 1343 | J8: =J9+J15+J31 -> 939 | K8: =K9+K15+K31 -> 853.1
A9: Функционирование главы администрации Мордовско-Полянского сельского поселения Зубово-Полянского муниципального района | B9: 01 | C9: 02 | I9: =I10 -> 409.8 | J9: =J10 -> 309.8 | K9: =K10 -> 309.8
A10: Обеспечение деятельности администрации Мордовско-Полянского сельского поселения Зубово-Полянского муниципального района | B10: 01 | C10: 02 | D10: 65 | I10: =I11 -> 409.8 | J10: =J11 -> 309.8 | K10: =K11 -> 309.8
A11: Обеспечение деятельности главы администрации Мордовско-Полянского сельского поселения Зубово-Полянского муниципального района | B11: 01 | C11: 02 | D11: 65 | E11: 2 | I11: =I12 -> 409.8 | J11: =J12 -> 309.8 | K11: =K12 -> 309.8
A12: Расходы на выплаты по оплате труда высшего должностного лица | B12: 01 | C12: 02 | D12: 65 | E12: 2 | F12: 00 | G12: 41150 | I12: =I14 -> 409.8 | J12: =J14 -> 309.8 | K12: =K14 -> 309.8
A13: Расходы на выплаты персоналу в целях обеспечения выполнения функций государственными (муниципальными) органами, казенными учреждениями, органами управления государственными внебюджетными фондами | B13: 01 | C13: 02 | D13: 65 | E13: 2 | F13: 00 | G13: 41150 | H13: 100 | I13: =I14 -> 409.8 | J13: =J14 -> 309.8 | K13: =K14 -> 309.8
A14: Расходы на выплаты персоналу государственных (муниципальных)органов | B14: 01 | C14: 02 | D14: 65 | E14: 2 | F14: 00 | G14: 41150 | H14: 120 | I14: ='Приложение 2'!J14 -> 409.8 | J14: ='Приложение 2'!K14 -> 309.8 | K14: ='Приложение 2'!L14 -> 309.8
A15: Функционирование Правительства Российской Федерации, высших органов исполнительной власти субъектов Российской Федерации, местных администраций | B15: 01 | C15: 04 | I15: =I16+I21 -> 933.2 | J15: =J16+J21 -> 628.2 | K15: =K16+K21 -> 542.3
A16: Юстиция и профилактика правонарушений | B16: 01 | C16: 04 | D16: 19 | E16: 2 | I16: =I17 -> 0.7 | J16: =J17 -> 0.7 | K16: =K17 -> 0.8
A17: Основное мероприятие "Обеспечение реализации государственных полномочий" | B17: 01 | C17: 04 | D17: 19 | E17: 2 | F17: 03 | I17: =I18 -> 0.7 | J17: =J18 -> 0.7 | K17: =K18 -> 0.8
A18: Осуществление государственных полномочий Республики Мордовия по определению перечня должностных лиц, уполномоченных составлять протоколы об административных правонарушениях, предусмотренных Законом Республики Мордовия от 15 июня 2015 года №38-З "Об административной ответственности на территории Республики Мордовия" | B18: 01 | C18: 04 | D18: 19 | E18: 2 | F18: 03 | G18: 77150 | I18: =I19 -> 0.7 | J18: =J19 -> 0.7 | K18: =K19 -> 0.8
A19: Закупка товаров, работ и услуг для обеспечения государственных (муниципальных) нужд | B19: 01 | C19: 04 | D19: 19 | E19: 2 | F19: 03 | G19: 77150 | H19: 200 | I19: =I20 -> 0.7 | J19: =J20 -> 0.7 | K19: =K20 -> 0.8
A20: Иные закупки товаров, работ и услуг для обеспечения государственных (муниципальных) нужд | B20: 01 | C20: 04 | D20: 19 | E20: 2 | F20: 03 | G20: 77150 | H20: 240 | I20: ='Приложение 2'!J20 -> 0.7 | J20: ='Приложение 2'!K20 -> 0.7 | K20: ='Приложение 2'!L20 -> 0.8
A21: Обеспечение деятельности администрации Мордовско-Полянского сельского поселения Зубово-Полянского муниципального района | B21: 01 | C21: 04 | D21: 65 | I21: =I22 -> 932.5 | J21: =J22 -> 627.5 | K21: =K22 -> 541.5
A22: Обеспечение деятельности аппарата администрации Мордовско-Полянского сельского поселения Зубово-Полянского муниципального района | B22: 01 | C22: 04 | D22: 65 | E22: 1 | I22: =I23+I27+I29 -> 932.5 | J22: =J23+J27+J29 -> 627.5 | K22: =K23+K27+K29 -> 541.5
A23: Расходы на выплаты по оплате труда работников органов местного самоуправления | B23: 01 | C23: 04 | D23: 65 | E23: 1 | F23: 00 | G23: 41110 | I23: =I24 -> 603.41 | J23: =J24 -> 576.4 | K23: =K24 -> 504
A24: Расходы на выплаты персоналу в целях обеспечения выполнения функций государственными (муниципальными) органами, казенными учреждениями, органами управления государственными внебюджетными фондами | B24: 01 | C24: 04 | D24: 65 | E24: 1 | F24: 00 | G24: 41110 | H24: 100 | I24: =I25 -> 603.41 | J24: =J25 -> 576.4 | K24: =K25 -> 504
A25: Расходы на выплаты персоналу государственных (муниципальных) органов | B25: 01 | C25: 04 | D25: 65 | E25: 1 | F25: 00 | G25: 41110 | H25: 120 | I25: ='Приложение 2'!J26 -> 603.41 | J25: ='Приложение 2'!K26 -> 576.4 | K25: ='Приложение 2'!L26 -> 504
A26: Расходы на обеспечение функций органов местного самоуправления | B26: 01 | C26: 04 | D26: 65 | E26: 1 | F26: 00 | G26: 41120 | I26: =I27+I29 -> 329.09 | J26: =J27+J29 -> 51.1 | K26: =K27+K29 -> 37.5
A27: Закупка товаров, работ и услуг для обеспечения государственных (муниципальных) нужд | B27: 01 | C27: 04 | D27: 65 | E27: 1 | F27: 00 | G27: 41120 | H27: 200 | I27: =I28 -> 290.99 | J27: =J28 -> 13 | K27: =K28 -> 16.4
A28: Иные закупки товаров, работ и услуг для обеспечения государственных (муниципальных) нужд | B28: 01 | C28: 04 | D28: 65 | E28: 1 | F28: 00 | G28: 41120 | H28: 240 | I28: ='Приложение 2'!J29 -> 290.99 | J28: ='Приложение 2'!K29 -> 13 | K28: ='Приложение 2'!L29 -> 16.4
A29: Иные бюджетные ассигнования | B29: 01 | C29: 04 | D29: 65 | E29: 1 | F29: 00 | G29: 41120 | H29: 800 | I29: =I30 -> 38.1 | J29: =J30 -> 38.1 | K29: =K30 -> 21.1
A30: Уплата налогов, сборов и иных платежей | B30: 01 | C30: 04 | D30: 65 | E30: 1 | F30: 00 | G30: 41120 | H30: 850 | I30: ='Приложение 2'!J31 -> 38.1 | J30: ='Приложение 2'!K31 -> 38.1 | K30: ='Приложение 2'!L31 -> 21.1
A31: Резервные фонды | B31: 01 | C31: 11 | I31: =I32 -> 0 | J31: =J32 -> 1 | K31: =K32 -> 1
A32: Непрограмные расходы главных распорядителей бюджетных средств | B32: 01 | C32: 11 | D32: 89 | I32: =I33 -> 0 | J32: =J33 -> 1 | K32: =K33 -> 1
A33: Непрограмные расходы в рамках обеспечения деятельности главных распорядителей бюджетных средств | B33: 01 | C33: 11 | D33: 89 | E33: 1 | I33: =I34 -> 0 | J33: =J34 -> 1 | K33: =K34 -> 1
A34: Расходы, связанные с муниципальным управлением | B34: 01 | C34: 11 | D34: 89 | E34: 1 | F34: 00 | G34: 41000 | I34: =I35 -> 0 | J34: =J35 -> 1 | K34: =K35 -> 1
A35: Резервные фонды Мордовско-Полянского сельского поселения Зубово-Полянского муниципального района | B35: 01 | C35: 11 | D35: 89 | E35: 1 | F35: 00 | G35: 41180 | I35: =I36 -> 0 | J35: =J36 -> 1 | K35: =K36 -> 1
A36: Иные бюджетные ассигнования | B36: 01 | C36: 11 | D36: 89 | E36: 1 | F36: 00 | G36: 41180 | H36: 800 | I36: =I37 -> 0 | J36: =J37 -> 1 | K36: =K37 -> 1
A37: Резервные средства | B37: 01 | C37: 11 | D37: 89 | E37: 1 | F37: 00 | G37: 41180 | H37: 870 | I37: ='Приложение 2'!J38 -> 0 | J37: ='Приложение 2'!K38 -> 1 | K37: ='Приложение 2'!L38 -> 1
A38: Национальная оборона | B38: 02 | I38: =I39 -> 109.3 | J38: =J39 -> 114.4 | K38: =K39 -> 118.7
A39: Мобилизационная и вневойсковая подготовка | B39: 02 | C39: 03 | I39: =I40 -> 109.3 | J39: =J40 -> 114.4 | K39: =K40 -> 118.7
A40: Муниципальная программа "Повышение эффективности управления муниципальными финансами до 2025 года" | B40: 02 | C40: 03 | D40: 17 | I40: =I41 -> 109.3 | J40: =J41 -> 114.4 | K40: =K41 -> 118.7
...

Sheet Приложение 4
I1: Приложение 4 к решению Совета депутатов Мордовско-Полянского сельского поселения Зубово-Полянского муниципального района Республики Мордовия «О внесении изменений и дополнений в бюджет Мордовско-Полянского сельского поселения Зубово-Полянского муниципального района Республики Мордовия на 2023 год и на плановый период 2024 и 2025 годы» № от 2023 г
A2: РАСПРЕДЕЛЕНИЕ БЮДЖЕТНЫХ АССИГНОВАНИЙ БЮДЖЕТА МОРДОВСКО-ПОЛЯНСКОГО СЕЛЬСКОГО ПОСЕЛЕНИЯ ЗУБОВО-ПОЛЯНСКОГО МУНИЦИПАЛЬНОГО РАЙОНА РЕСПУБЛИКИ МОРДОВИЯ ПО ЦЕЛЕВЫМ СТАТЬЯМ (МУНИЦИПАЛЬНЫМ ПРОГРАММАМ И НЕПРОГРАММНЫМ НАПРАВЛЕНИЯМ ДЕЯТЕЛЬНОСТИ), ГРУППАМ И ПОДГРУППАМ ВИДОВ РАСХОДОВ, РАЗДЕЛАМ И ПОДРАЗДЕЛАМ КЛАССИФИКАЦИИ РАСХОДОВ БЮДЖЕТОВ НА 2023 ГОД И НА ПЛАНОВЫЙ ПЕРИОД 2024 И 2025 ГОДЫ
I3: (тыс. рублей)
A4: Наименование | B4: Цср | F4: ВР | G4: Рз | H4: Прз | I4: Адм | J4: Сумма
J5: 2023 год | K5: 2024 год | L5: 2025 год
A6: 1 | B6: 2 | C6: 3 | D6: 4 | E6: 5 | F6: 6 | G6: 7 | H6: 8 | I6: 9 | J6: 10 | K6: 11 | L6: 12
A7: ВСЕГО | J7: =J8 -> 4908.17 | K7: =K8 -> 1474.6 | L7: =L8 -> 1440.5
A8: Администрация Мордовско-Полянского сельского поселения Зубово-Полянского муниципального района Республики Мордовия | J8: =J9+J17+J45+J53+J80 -> 4908.17 | K8: =K9+K17+K45+K53+K80 -> 1474.6 | L8: =L9+L17+L45+L53+L80 -> 1440.5
A9: Программа Мордовско-Полянского сельского поселения Зубово-Полянского муниципального района Республики Мордовия "Развитие транспортной инфраструктуры" | B9: 13 | J9: =J10 -> 150 | K9: =K10 -> 150 | L9: =L10 -> 150
A10: Основное мероприятие "Развитие автомобильных дорог" | B10: 13 | C10: 0 | D10: 01 | J10: =J11 -> 150 | K10: =K11 -> 150 | L10: =L11 -> 150
A11: Иные межбюджетные трансферты на осуществление полномочий по дорожной деятельности в отношении автомобильных дорог местного значения в границах населенных пунктов поселения и обеспечению безопасности дорожного движения на них, включая создание и обеспечение функционирования парковок (парковочных мест), осуществлению муниципального контроля за сохранностью автомобильных дорог местного значения в границах населенных пунктов поселения, организации дорожного движения, а также осуществлению иных полномочий в области использования автомобильных дорог и осуществления дорожной деятельности в соответствии с законодательством Российской Федерации | B11: 13 | C11: 0 | D11: 01 | E11: 42510 | J11: =J12 -> 150 | K11: =K12 -> 150 | L11: =L12 -> 150
A12: Закупка товаров, работ и услуг для обеспечения государственных (муниципальных) нужд | B12: 13 | C12: 0 | D12: 01 | E12: 42510 | F12: 200 | J12: =J13 -> 150 | K12: =K13 -> 150 | L12: =L13 -> 150
A13: Иные закупки товаров, работ и услуг для обеспечения государственных (муниципальных) нужд | B13: 13 | C13: 0 | D13: 01 | E13: 42510 | F13: 240 | J13: =J14 -> 150 | K13: =K14 -> 150 | L13: =L14 -> 150
A14: Национальная экономика | B14: 13 | C14: 0 | D14: 01 | E14: 42510 | F14: 240 | G14: 04 | J14: =J15 -> 150 | K14: =K15 -> 150 | L14: =L15 -> 150
A15: Дорожное хозяйство | B15: 13 | C15: 0 | D15: 01 | E15: 42510 | F15: 240 | G15: 04 | H15: 09 | J15: =J16 -> 150 | K15: =K16 -> 150 | L15: =L16 -> 150
A16: Администрация Мордовско-Полянского сельского поселения Зубово-Полянского муниципального района Республики Мордовия | B16: 13 | C16: 0 | D16: 01 | E16: 42510 | F16: 240 | G16: 04 | H16: 09 | I16: 923 | J16: ='Приложение 2'!J55 -> 150 | K16: ='Приложение 2'!K55 -> 150 | L16: ='Приложение 2'!L55 -> 150
A17: Муниципальная программа "Повышение эффективности управления муниципальными финансами до 2025 года" | B17: 17 | J17: =J18+J32 -> 109.3 | K17: =K18+K32 -> 149.4 | L17: =L18+L32 -> 185.7
A18: Подпрограмма "Эффективное использование бюджетного потенциала" | B18: 17 | C18: 1 | J18: =J19+J26 -> 0 | K18: =K19+K26 -> 35 | L18: =L19+L26 -> 67
A19: Основное мероприятие "Совершенствование бюджетного процесса,процедуры формирования и исполнения бюджета" | B19: 17 | C19: 1 | D19: 01 | J19: =J20 -> 0 | K19: =K20 -> 34 | L19: =L20 -> 66
A20: Условно утвержденные расходы | B20: 17 | C20: 1 | D20: 01 | E20: 41990 | J20: =J21 -> 0 | K20: =K21 -> 34 | L20: =L21 -> 66
A21: Иные бюджетные ассигнования | B21: 17 | C21: 1 | D21: 01 | E21: 41990 | F21: 800 | J21: =J22 -> 0 | K21: =K22 -> 34 | L21: =L22 -> 66
A22: Резервные средства | B22: 17 | C22: 1 | D22: 01 | E22: 41990 | F22: 870 | J22: =J23 -> 0 | K22: =K23 -> 34 | L22: =L23 -> 66
A23: Условно утвержденные расходы | B23: 17 | C23: 1 | D23: 01 | E23: 41990 | F23: 870 | G23: 99 | J23: =J24 -> 0 | K23: =K24 -> 34 | L23: =L24 -> 66
A24: Условно утвержденные расходы | B24: 17 | C24: 1 | D24: 01 | E24: 41990 | F24: 870 | G24: 99 | H24: 99 | J24: =J25 -> 0 | K24: =K25 -> 34 | L24: =L25 -> 66
A25: Администрация Мордовско-Полянского сельского поселения Зубово-Полянского муниципального района Республики Мордовия | B25: 17 | C25: 1 | D25: 01 | E25: 41990 | F25: 870 | G25: 99 | H25: 99 | I25: 923 | J25: ='Приложение 3'!I84 -> 0 | K25: ='Приложение 3'!J84 -> 34 | L25: ='Приложение 3'!K84 -> 66
A26: Процентные платежи по муниципальному долгу | B26: 17 | C26: 1 | D26: 02 | E26: 41240 | J26: =J27 -> 0 | K26: =K27 -> 1 | L26: =L27 -> 1
A27: Обслуживание государственного (муниципального) долга | B27: 17 | C27: 1 | D27: 02 | E27: 41240 | F27: 700 | J27: =J28 -> 0 | K27: =K28 -> 1 | L27: =L28 -> 1
A28: Обслуживание муниципального долга | B28: 17 | C28: 1 | D28: 02 | E28: 41240 | F28: 730 | J28: =J29 -> 0 | K28: =K29 -> 1 | L28: =L29 -> 1
A29: Обслуживание государственного (муниципального) долга | B29: 17 | C29: 1 | D29: 02 | E29: 41240 | F29: 730 | G29: 13 | J29: =J30 -> 0 | K29: =K30 -> 1 | L29: =L30 -> 1
A30: Обслуживание государственного (муниципального) внутреннего долга | B30: 17 | C30: 1 | D30: 02 | E30: 41240 | F30: 730 | G30: 13 | H30: 01 | J30: =J31 -> 0 | K30: =K31 -> 1 | L30: =L31 -> 1
A31: Администрация Мордовско-Полянского сельского поселения Зубово-Полянского муниципального района Республики Мордовия | B31: 17 | C31: 1 | D31: 02 | E31: 41240 | F31: 730 | G31: 13 | H31: 01 | I31: 923 | J31: ='Приложение 2'!J79 -> 0 | K31: ='Приложение 2'!K79 -> 1 | L31: ='Приложение 2'!L79 -> 1
A32: Подпрограмма "Повышение эффективности межбюджетных отношений" | B32: 17 | C32: 3 | J32: =J33 -> 109.3 | K32: =K33 -> 114.4 | L32: =L33 -> 118.7
A33: Основное мероприятие "Обеспечение осуществления органами местного самоуправления отдельных государственных полномочий" | B33: 17 | C33: 3 | D33: 02 | J33: =J34 -> 109.3 | K33: =K34 -> 114.4 | L33: =L34 -> 118.7
A34: Осуществление государственных полномочий Российской Федерации по первичному воинскому учету на территориях, где отсутсвуют военные комиссариаты | B34: 17 | C34: 3 | D34: 02 | E34: 51180 | J34: =J35 -> 109.3 | K34: =K35 -> 114.4 | L34: =L35 -> 118.7
A35: Расходы на выплаты персоналу в целях обеспечения выполнения функций государственными (муниципальными) органами, казенными учреждениями, органами управления государственными внебюджетными фондами | B35: 17 | C35: 3 | D35: 02 | E35: 51180 | F35: 100 | J35: =J36+J40 -> 109.3 | K35: =K36+K40 -> 114.4 | L35: =L36+L40 -> 118.7
A36: Расходы на выплаты персоналу государственных (муниципальных) органов | B36: 17 | C36: 3 | D36: 02 | E36: 51180 | F36: 120 | J36: =J37 -> 101.5 | K36: =K37 -> 106.2 | L36: =L37 -> 110.3
A37: Национальная оборона | B37: 17 | C37: 3 | D37: 02 | E37: 51180 | F37: 120 | G37: 02 | J37: =J38 -> 101.5 | K37: =K38 -> 106.2 | L37: =L38 -> 110.3
A38: Мобилизационная и вневойсковая подготовка | B38: 17 | C38: 3 | D38: 02 | E38: 51180 | F38: 120 | G38: 02 | H38: 03 | J38: =J39 -> 101.5 | K38: =K39 -> 106.2 | L38: =L39 -> 110.3
A39: Администрация Мордовско-Полянского сельского поселения Зубово-Полянского муниципального района Республики Мордовия | B39: 17 | C39: 3 | D39: 02 | E39: 51180 | F39: 120 | G39: 02 | H39: 03 | I39: 923 | J39: ='Приложение 2'!J46 -> 101.5 | K39: ='Приложение 2'!K46 -> 106.2 | L39: ='Приложение 2'!L46 -> 110.3
A40: Закупка товаров, работ и услуг для обеспечения государственных (муниципальных) нужд | B40: 17 | C40: 3 | D40: 02 | E40: 51180 | F40: 200 | J40: =J41 -> 7.8 | K40: =K41 -> 8.2 | L40: =L41 -> 8.4
...

Sheet Приложение 5
C1: Приложение 5 к решению Совета депутатов Мордовско-Полянского сельского поселения Зубово-Полянского муниципального района Республики Мордовия «О внесении изменений и дополнений в бюджет Мордовско-Полянского сельского поселения Зубово-Полянского муниципального района Республики Мордовия на 2023 год и на плановый период 2024 и 2025 годы» № от 2023 г
A7: ИСТОЧНИКИ ВНУТРЕННЕГО ФИНАНСИРОВАНИЯ ДЕФИЦИТА БЮДЖЕТА МОРДОВСКО-ПОЛЯНСКОГО СЕЛЬСКОГО ПОСЕЛЕНИЯ ЗУБОВО-ПОЛЯНСКОГО МУНИЦИПАЛЬНОГО РАЙОНА РЕСПУБЛИКИ МОРДОВИЯ НА 2023 ГОД И НА ПЛАНОВЫЙ ПЕРИОД 2024 и 2025 ГОДЫ
A9: Код | B9: Наименование кода группы, подгруппы, статьи, вида источника финансирования дефицитов бюджетов, кода классификации операций сектора государственного управления, относящихся к источникам финансирования дефицитов бюджетов Российской Федерации | C9: Сумма (тыс. руб.)
C10: 2023 год | D10: 2024 год | E10: 2025 год
A11: 1 | B11: 2 | C11: 3 | D11: 4 | E11: 5
A12: 000 01 00 00 00 00 0000 000 | B12: ИСТОЧНИКИ ВНУТРЕННЕГО ФИНАНСИРОВАНИЯ ДЕФИЦИТОВ БЮДЖЕТОВ | C12: =C18+C26+C31+C13 -> 1.8474111e-13 | D12: =D18+D26+D31+D13 -> 0 | E12: =E18+E26+E31+E13 -> 0
A13: 000 01 02 00 00 00 0000 000 | B13: Кредиты кредитных организаций в валюте Российской Федерации | C13: =C14 -> 42.2 | D13: =D14 -> 63.3 | E13: =E14 -> 84.4
A14: 000 01 02 00 00 00 0000 700 | B14: Получение кредитов от кредитных организаций в валюте Российской Федерации | C14: =C15 -> 42.2 | D14: =D15 -> 63.3 | E14: =E15 -> 84.4
A15: 000 01 02 00 00 10 0000 710 | B15: Получение кредитов от кредитных организаций бюджетами поселений в валюте Российской Федерации | C15: 42.2 | D15: 63.3 | E15: 84.4
A16: 000 01 02 00 00 00 0000 800 | B16: Погашение кредитов, предоставленных кредитными организациями в валюте Российской Федерации | C16: =C17 -> 0 | D16: =D17 -> 0 | E16: =E17 -> 0
A17: 000 01 02 00 00 10 0000 810 | B17: Погашение кредитов, предоставленных кредитными организациями бюджетами поселений в валюте Российской Федерации
A18: 000 01 03 00 00 00 0000 000 | B18: Бюджетные кредиты от других бюджетов бюджетной системы Российской Федерации | C18: =C19 -> -42.2 | D18: =D19 -> -63.3 | E18: =E19 -> -84.4
A19: 000 01 03 01 00 00 0000 000 | B19: Бюджетные кредиты от других бюджетов бюджетной системы Российской Федерации в валюте Российской Федерации | C19: =C20+C22 -> -42.2 | D19: =D20+D22 -> -63.3 | E19: =E20+E22 -> -84.4
A20: 000 01 03 01 00 00 0000 700 | B20: Получение бюджетных кредитов от других бюджетов бюджетной системы Российской Федерации в валюте Российской Федерации | C20: =C21 -> 0 | D20: =D21 -> 0 | E20: =E21 -> 0
A21: 000 01 03 01 00 10 0000 710 | B21: Получение кредитов от других бюджетов бюджетной системы Российской Федерации бюджетами поселений в валюте Российской Федерации | C21: 0 | D21: 0 | E21: 0
A22: 000 01 03 01 00 00 0000 800 | B22: Погашение бюджетных кредитов от других бюджетов бюджетной системы Российской Федерации в валюте Российской Федерации | C22: =C23 -> -42.2 | D22: =D23 -> -63.3 | E22: =E23 -> -84.4
A23: 000 01 03 01 00 10 0000 810 | B23: Погашение кредитов от других бюджетов бюджетной системы Российской Федерации бюджетами поселений в валюте Российской Федерации | C23: -42.2 | D23: -63.3 | E23: -84.4
A24: 000 01 03 01 00 10 2604 810 | B24: Погашение кредитов от других бюджетов бюджетной системы Российской Федерации бюджетами поселений в валюте Российской Федерации на покрытие временногокассового разрыва, возникающего при исполнении бюджета | C24: 0 | D24: 0 | E24: 0
A25: 000 01 05 00 00 00 0000 000 | B25: Изменение остатков средств на счетах по учету средств бюджета | D25: =D26+D31 -> 0 | E25: =E26+E31 -> 0
A26: 000 01 05 00 00 00 0000 500 | B26: Увеличение остатков средств бюджетов | C26: =C27 -> -4950.4 | D26: =D27 -> -1537.9 | E26: =E27 -> -1524.9
A27: 000 01 05 02 00 00 0000 500 | B27: Увеличение прочих остатков средств бюджетов | C27: =C28 -> -4950.4 | D27: =D28 -> -1537.9 | E27: =E28 -> -1524.9
A28: 000 01 05 02 01 00 0000 510 | B28: Увеличение прочих остатков денежных средств бюджетов | C28: =C29 -> -4950.4 | D28: =D29 -> -1537.9 | E28: =E29 -> -1524.9
A29: 000 01 05 02 01 10 0000 510 | B29: Увеличение прочих остатков денежных средств бюджетов поселений | C29: -4950.4 | D29: -1537.9 | E29: -1524.9
A31: 000 01 05 00 00 00 0000 600 | B31: Уменьшение остатков средств бюджетов | C31: =C32 -> 4950.4 | D31: =D32 -> 1537.9 | E31: =E32 -> 1524.9
A32: 000 01 05 02 00 00 0000 600 | B32: Уменьшение прочих остатков средств бюджетов | C32: =C33 -> 4950.4 | D32: =D33 -> 1537.9 | E32: =E33 -> 1524.9
A33: 000 01 05 02 01 00 0000 600 | B33: Уменьшение прочих остатков денежных средств бюджетов | C33: =C34 -> 4950.4 | D33: =D34 -> 1537.9 | E33: =E34 -> 1524.9
A34: 000 01 05 02 01 10 0000 610 | B34: Уменьшение прочих остатков денежных средств бюджетов поселений | C34: 4950.4 | D34: 1537.9 | E34: 1524.9
A35: 000 01 06 00 00 00 0000 000 | B35: Иные источники внутреннего финансирования дефицитов бюджетов
A36: 000 01 06 05 00 00 0000 000 | B36: Бюджетные кредиты, предоставленные внутри страны в валюте Российской Федерации | C36: =C42 -> 0 | D36: =D42 -> 0 | E36: =E42 -> 0
A37: 000 01 06 05 00 00 0000 600 | B37: Возврат бюджетных кредитов, предоставленных внутри страны в валюте Российской Федерации | C37: =C38 -> 0 | D37: =D38 -> 0 | E37: =E38 -> 0
A38: 000 01 06 05 01 00 0000 600 | B38: Возврат бюджетных кредитов, предоставленных юридическим лицам в валюте Российской Федерации | C38: =C39 -> 0 | D38: =D39 -> 0 | E38: =E39 -> 0
A39: 000 01 06 05 01 10 0000 640 | B39: Возврат бюджетных кредитов, предоставленных юридическим лицам из бюджетов поселений в валюте Российской Федерации | C39: 0 | D39: 0 | E39: 0
A40: 000 01 06 05 02 00 0000 640 | B40: Возврат бюджетных кредитов, предоставленных другим бюджетам бюджетной системы Российской Федерации в валюте Российской Федерации | C40: =C41 -> 0 | D40: =D41 -> 0 | E40: =E41 -> 0
A41: 000 01 06 05 02 10 0000 640 | B41: Возврат бюджетных кредитов, предоставленных другим бюджетам бюджетной системы Российской Федерации из бюджетов поселений в валюте Российской Федерации | C41: 0 | D41: 0 | E41: 0
A42: 000 01 06 05 00 00 0000 500 | B42: Предоставление бюджетных кредитов внутри страны в валюте Российской Федерации | C42: =C43 -> 0 | D42: =D43 -> 0 | E42: =E43 -> 0
A43: 000 01 06 05 02 10 0000 540 | B43: Предоставление бюджетных кредитов другим бюджетам бюджетной системы Российской Федерации из бюджетов поселений в валюте Российской Федерации
B44: Привлечение средств
B45: Погашение основной суммы задолженности

Sheet Приложение 6
F1: Приложение 6 к решению Совета депутатов Мордовско-Полянского сельского поселения Зубово-Полянского муниципального района Республики Мордовия «О внесении изменений и дополнений в бюджет Мордовско-Полянского сельского поселения Зубово-Полянского муниципального района Республики Мордовия на 2023 год и на плановый период 2024 и 2025 годы» № от 2023 г
A8: ПРОГРАММА МУНИЦИПАЛЬНЫХ ВНУТРЕННИХ ЗАИМСТВОВАНИЙ МОРДОВСКО-ПОЛЯНСКОГО СЕЛЬСКОГО ПОСЕЛЕНИЯ ЗУБОВО-ПОЛЯНСКОГО МУНИЦИПАЛЬНОГО РАЙОНА РЕСПУБЛИКИ МОРДОВИЯ НА 2023 ГОД И НА ПЛАНОВЫЙ ПЕРИОД 2024 И 2025 ГОДЫ
A10: № п/п | B10: Виды заимствований | F10: Сумма (тыс. рублей)
F11: 2023 год | G11: 2024 год | I11: 2025 год
A12: 1 | B12: Кредиты кредитных организаций в валюте Российской Федерации | F12: =F14 -> 0 | G12: =G14 -> 0 | I12: =I14 -> 0
B13: в том числе:
B14: Объем привлечения
B15: Объем средств, направляемых на погашение основной суммы долга
B16: Бюджетные кредиты от других бюджетов бюджетной системы Российской Федерации | F16: =F19 -> -42.2 | G16: =G19 -> -63.3 | I16: =I19 -> -84.4
B17: в том числе:
B18: Объем привлечения
B19: Объем средств, направляемых на погашение основной суммы долга | F19: -42.2 | G19: -63.3 | I19: -84.4
B27: ВСЕГО | F27: =F12+F16 -> -42.2 | G27: =G12+G16 -> -63.3 | I27: =I12+I16 -> -84.4
